BEGIN:VCALENDAR
VERSION:2.0
PRODID:-//San Diego Museum of Art - ECPv6.7.0//NONSGML v1.0//EN
CALSCALE:GREGORIAN
METHOD:PUBLISH
X-WR-CALNAME:San Diego Museum of Art
X-ORIGINAL-URL:https://www.sdmart.org
X-WR-CALDESC:Events for San Diego Museum of Art
REFRESH-INTERVAL;VALUE=DURATION:PT1H
X-Robots-Tag:noindex
X-PUBLISHED-TTL:PT1H
BEGIN:VTIMEZONE
TZID:America/Los_Angeles
BEGIN:DAYLIGHT
TZOFFSETFROM:-0800
TZOFFSETTO:-0700
TZNAME:PDT
DTSTART:20230312T100000
END:DAYLIGHT
BEGIN:STANDARD
TZOFFSETFROM:-0700
TZOFFSETTO:-0800
TZNAME:PST
DTSTART:20231105T090000
END:STANDARD
END:VTIMEZONE
BEGIN:VEVENT
DTSTART;TZID=America/Los_Angeles:20230401T120000
DTEND;TZID=America/Los_Angeles:20230401T160000
DTSTAMP:20260420T231955
CREATED:20221222T195613Z
LAST-MODIFIED:20221222T200029Z
UID:36388-1680350400-1680364800@www.sdmart.org
SUMMARY:Art Alive Garden of Activities
DESCRIPTION:Saturday\, April 1 and Sunday\, April 2\nnoon–4:00 p.m. PT\nMay S. Marcy Sculpture Garden \n  \nGreat for artists of all ages\, the Art Alive Garden of Activities brings hands-on fun to the floral extravaganza of Art Alive weekend. Join Museum educators in the floral-themed art-making space to experiment and explore through a variety of hands-on arts projects and demonstrations. \nThe 2023 Garden of Activities will again be outdoors to serve more youth and families. Experiment with a new skill by choosing to partake in individual or collaborative activities. The Garden of Activities guided projects are inspired by nature and the featured Modern Women exhibition. \n  \nFree with Art Alive admission. Learn more about Art Alive 2023.
URL:https://www.sdmart.org/event/art-alive-garden-of-activities/2023-04-01/
LOCATION:May S. Marcy Sculpture Garden\, 1450 El Prado\, San Diego\, 92101\, United States
CATEGORIES:Art Alive,Families
ATTACH;FMTTYPE=image/jpeg:https://www.sdmart.org/wp-content/uploads/2022/12/AA22-Garden-of-Activities-0430229202005-resize.jpg
GEO:32.732119;-117.1504179
X-APPLE-STRUCTURED-LOCATION;VALUE=URI;X-ADDRESS=May S. Marcy Sculpture Garden 1450 El Prado San Diego 92101 United States;X-APPLE-RADIUS=500;X-TITLE=1450 El Prado:geo:-117.1504179,32.732119
END:VEVENT
END:VCALENDAR