BEGIN:VCALENDAR
VERSION:2.0
PRODID:-//San Diego Museum of Art - ECPv6.7.0//NONSGML v1.0//EN
CALSCALE:GREGORIAN
METHOD:PUBLISH
X-WR-CALNAME:San Diego Museum of Art
X-ORIGINAL-URL:https://www.sdmart.org
X-WR-CALDESC:Events for San Diego Museum of Art
REFRESH-INTERVAL;VALUE=DURATION:PT1H
X-Robots-Tag:noindex
X-PUBLISHED-TTL:PT1H
BEGIN:VTIMEZONE
TZID:America/Los_Angeles
BEGIN:DAYLIGHT
TZOFFSETFROM:-0800
TZOFFSETTO:-0700
TZNAME:PDT
DTSTART:20240310T100000
END:DAYLIGHT
BEGIN:STANDARD
TZOFFSETFROM:-0700
TZOFFSETTO:-0800
TZNAME:PST
DTSTART:20241103T090000
END:STANDARD
END:VTIMEZONE
BEGIN:VEVENT
DTSTART;TZID=America/Los_Angeles:20240613T123000
DTEND;TZID=America/Los_Angeles:20240613T133000
DTSTAMP:20260420T035321
CREATED:20240229T214709Z
LAST-MODIFIED:20240229T214709Z
UID:38615-1718281800-1718285400@www.sdmart.org
SUMMARY:Books & Art: Storytelling
DESCRIPTION:Thursdays\, March 14\, May 9\, and June 13\n12:30–1:30 p.m.\nThe San Diego Museum of Art Library \n  \nGather to listen to some exciting storytelling in The San Diego Museum of Art Library.\nWe invite families to come and enjoy an hour of lively storytelling and readings of some of our favorite art-inspired children’s books \n  \nPlease RSVP here to save your spot for this FREE event! Registration is limited to 15 people. \n  \nSupport provided by Art Bridges.
URL:https://www.sdmart.org/event/books-art-storytelling/2024-06-13/
LOCATION:The San Diego Museum of Art\, 1450 El Prado\, San Diego\, CA\, 92102\, United States
CATEGORIES:Access for All,Families
ATTACH;FMTTYPE=image/jpeg:https://www.sdmart.org/wp-content/uploads/2023/06/IMG_7259-2resize.jpg
GEO:32.732119;-117.1504179
X-APPLE-STRUCTURED-LOCATION;VALUE=URI;X-ADDRESS=The San Diego Museum of Art 1450 El Prado San Diego CA 92102 United States;X-APPLE-RADIUS=500;X-TITLE=1450 El Prado:geo:-117.1504179,32.732119
END:VEVENT
BEGIN:VEVENT
DTSTART;TZID=America/Los_Angeles:20240509T123000
DTEND;TZID=America/Los_Angeles:20240509T133000
DTSTAMP:20260420T035321
CREATED:20240229T214709Z
LAST-MODIFIED:20240229T214709Z
UID:38614-1715257800-1715261400@www.sdmart.org
SUMMARY:Books & Art: Storytelling
DESCRIPTION:Thursdays\, March 14\, May 9\, and June 13\n12:30–1:30 p.m.\nThe San Diego Museum of Art Library \n  \nGather to listen to some exciting storytelling in The San Diego Museum of Art Library.\nWe invite families to come and enjoy an hour of lively storytelling and readings of some of our favorite art-inspired children’s books \n  \nPlease RSVP here to save your spot for this FREE event! Registration is limited to 15 people. \n  \nSupport provided by Art Bridges.
URL:https://www.sdmart.org/event/books-art-storytelling/2024-05-09/
LOCATION:The San Diego Museum of Art\, 1450 El Prado\, San Diego\, CA\, 92102\, United States
CATEGORIES:Access for All,Families
ATTACH;FMTTYPE=image/jpeg:https://www.sdmart.org/wp-content/uploads/2023/06/IMG_7259-2resize.jpg
GEO:32.732119;-117.1504179
X-APPLE-STRUCTURED-LOCATION;VALUE=URI;X-ADDRESS=The San Diego Museum of Art 1450 El Prado San Diego CA 92102 United States;X-APPLE-RADIUS=500;X-TITLE=1450 El Prado:geo:-117.1504179,32.732119
END:VEVENT
BEGIN:VEVENT
DTSTART;TZID=America/Los_Angeles:20240314T123000
DTEND;TZID=America/Los_Angeles:20240314T133000
DTSTAMP:20260420T035321
CREATED:20240229T214709Z
LAST-MODIFIED:20240229T214709Z
UID:38601-1710419400-1710423000@www.sdmart.org
SUMMARY:Books & Art: Storytelling
DESCRIPTION:Thursdays\, March 14\, May 9\, and June 13\n12:30–1:30 p.m.\nThe San Diego Museum of Art Library \n  \nGather to listen to some exciting storytelling in The San Diego Museum of Art Library.\nWe invite families to come and enjoy an hour of lively storytelling and readings of some of our favorite art-inspired children’s books \n  \nPlease RSVP here to save your spot for this FREE event! Registration is limited to 15 people. \n  \nSupport provided by Art Bridges.
URL:https://www.sdmart.org/event/books-art-storytelling/2024-03-14/
LOCATION:The San Diego Museum of Art\, 1450 El Prado\, San Diego\, CA\, 92102\, United States
CATEGORIES:Access for All,Families
ATTACH;FMTTYPE=image/jpeg:https://www.sdmart.org/wp-content/uploads/2023/06/IMG_7259-2resize.jpg
GEO:32.732119;-117.1504179
X-APPLE-STRUCTURED-LOCATION;VALUE=URI;X-ADDRESS=The San Diego Museum of Art 1450 El Prado San Diego CA 92102 United States;X-APPLE-RADIUS=500;X-TITLE=1450 El Prado:geo:-117.1504179,32.732119
END:VEVENT
END:VCALENDAR