BEGIN:VCALENDAR
VERSION:2.0
PRODID:-//San Diego Museum of Art - ECPv6.7.0//NONSGML v1.0//EN
CALSCALE:GREGORIAN
METHOD:PUBLISH
X-WR-CALNAME:San Diego Museum of Art
X-ORIGINAL-URL:https://www.sdmart.org
X-WR-CALDESC:Events for San Diego Museum of Art
REFRESH-INTERVAL;VALUE=DURATION:PT1H
X-Robots-Tag:noindex
X-PUBLISHED-TTL:PT1H
BEGIN:VTIMEZONE
TZID:America/Los_Angeles
BEGIN:DAYLIGHT
TZOFFSETFROM:-0800
TZOFFSETTO:-0700
TZNAME:PDT
DTSTART:20190310T100000
END:DAYLIGHT
BEGIN:STANDARD
TZOFFSETFROM:-0700
TZOFFSETTO:-0800
TZNAME:PST
DTSTART:20191103T090000
END:STANDARD
END:VTIMEZONE
BEGIN:VEVENT
DTSTART;TZID=America/Los_Angeles:20191226T100000
DTEND;TZID=America/Los_Angeles:20191226T190000
DTSTAMP:20260419T145123
CREATED:20191204T004622Z
LAST-MODIFIED:20191205T190510Z
UID:16694-1577354400-1577386800@www.sdmart.org
SUMMARY:Extended Holiday Hours
DESCRIPTION:Thursday\, December 26–Monday\, December 30 \nCelebrate the Holidays!\nCelebrate the holidays with visiting family and friends under Balboa Park’s dazzling holiday light display. For five days and evenings between Christmas and New Year’s Day\, the annual Holiday Food Truck Festival serves up gourmet food from over a dozen of San Diego’s top food trucks\, along with free live entertainment and fun activities for families. Food trucks open for business at noon each day. Click here for more information. \nFrom December 26–30\, the Museum has extended holiday hours in partnership with the Balboa Park Conservancy for the Holiday Food Truck Festival. \n\nExtended Holiday Hours\nThursday\, December 26 | 10:00 a.m.–7:00 p.m. \nFriday\, December 27 | 10:00 a.m.–8:00 p.m. (regular hours) \nSaturday\, December 28 | 10:00 a.m.–7:00 p.m. \nSunday\, December 29 | noon–7:00 p.m. \nMonday\, December 30 | 10:00 a.m.–7:00 p.m. \n\nThe Museum is closed December 25 for Christmas Day and January 1 for New Year’s Day.
URL:https://www.sdmart.org/event/extended-holiday-hours/2019-12-26/
LOCATION:The San Diego Museum of Art\, 1450 El Prado\, San Diego\, CA\, 92102\, United States
CATEGORIES:Art After Hours
ATTACH;FMTTYPE=image/jpeg:https://www.sdmart.org/wp-content/uploads/2018/11/IMG_1607.jpg
GEO:32.732119;-117.1504179
X-APPLE-STRUCTURED-LOCATION;VALUE=URI;X-ADDRESS=The San Diego Museum of Art 1450 El Prado San Diego CA 92102 United States;X-APPLE-RADIUS=500;X-TITLE=1450 El Prado:geo:-117.1504179,32.732119
END:VEVENT
END:VCALENDAR