BEGIN:VCALENDAR
VERSION:2.0
PRODID:-//San Diego Museum of Art - ECPv6.7.0//NONSGML v1.0//EN
CALSCALE:GREGORIAN
METHOD:PUBLISH
X-WR-CALNAME:San Diego Museum of Art
X-ORIGINAL-URL:https://www.sdmart.org
X-WR-CALDESC:Events for San Diego Museum of Art
REFRESH-INTERVAL;VALUE=DURATION:PT1H
X-Robots-Tag:noindex
X-PUBLISHED-TTL:PT1H
BEGIN:VTIMEZONE
TZID:UTC
BEGIN:STANDARD
TZOFFSETFROM:+0000
TZOFFSETTO:+0000
TZNAME:UTC
DTSTART:20170101T000000
END:STANDARD
END:VTIMEZONE
BEGIN:VEVENT
DTSTART;TZID=UTC:20170919T120000
DTEND;TZID=UTC:20170919T120000
DTSTAMP:20260424T183831
CREATED:20170602T015700Z
LAST-MODIFIED:20170619T042057Z
UID:1761-1505822400-1505822400@www.sdmart.org
SUMMARY:ArtStop: Claude Monet
DESCRIPTION:Museum Galleries\nTuesday\, 12:00 p.m.\n\nJoin us on the third Tuesday of each month during Resident’s Free Tuesday for an ArtStop. Led by Museum curators and educators\, these enlightening and informative 15-minute tours focus on one to three works on view in the galleries. \nTours meet at noon in the first floor rotunda. \nFree after Museum admission. \nClaude Monet\, Le Bassin des Nymphéas\, 1904. Oil on canvas. Denver Art Museum. Funds from Helen Dill bequest.
URL:https://www.sdmart.org/event/artstop-claude-monet/
CATEGORIES:Education
ATTACH;FMTTYPE=image/jpeg:https://www.sdmart.org/wp-content/uploads/2017/06/321654.jpg
END:VEVENT
END:VCALENDAR