BEGIN:VCALENDAR
VERSION:2.0
PRODID:-//San Diego Museum of Art - ECPv6.7.0//NONSGML v1.0//EN
CALSCALE:GREGORIAN
METHOD:PUBLISH
X-WR-CALNAME:San Diego Museum of Art
X-ORIGINAL-URL:https://www.sdmart.org
X-WR-CALDESC:Events for San Diego Museum of Art
REFRESH-INTERVAL;VALUE=DURATION:PT1H
X-Robots-Tag:noindex
X-PUBLISHED-TTL:PT1H
BEGIN:VTIMEZONE
TZID:America/Los_Angeles
BEGIN:DAYLIGHT
TZOFFSETFROM:-0800
TZOFFSETTO:-0700
TZNAME:PDT
DTSTART:20170312T100000
END:DAYLIGHT
BEGIN:STANDARD
TZOFFSETFROM:-0700
TZOFFSETTO:-0800
TZNAME:PST
DTSTART:20171105T090000
END:STANDARD
END:VTIMEZONE
BEGIN:VEVENT
DTSTART;TZID=America/Los_Angeles:20171008T130000
DTEND;TZID=America/Los_Angeles:20171008T150000
DTSTAMP:20260424T165309
CREATED:20170911T175319Z
LAST-MODIFIED:20170912T224155Z
UID:4528-1507467600-1507474800@www.sdmart.org
SUMMARY:Family Drop-In Day: Exploring Oceanic Art
DESCRIPTION:Sunday\, October 8\n1:00 – 3:00 p.m. \nFamilies are invited to explore Oceanic art together through special activities enjoyable for both adults and children. Participants take part in art projects inspired by the Museum’s collection\, go on family-friendly\, docent-led tours\, and play Museum-generated gallery games. Themes are projects change each month. Recommended for families with children ages 6-12. Children must be accompanied by an adult. \nRelated Exhibition: The Art of Papua New Guinea from the Valerie Franklin Collection \nFree with Museum admission. Visitors ages 17 & under receive free Museum admission. \n  \n  \n 
URL:https://www.sdmart.org/event/family-drop-day-oceanic-art/
LOCATION:The San Diego Museum of Art\, 1450 El Prado\, San Diego\, CA\, 92102\, United States
CATEGORIES:Education,Families
ATTACH;FMTTYPE=image/jpeg:https://www.sdmart.org/wp-content/uploads/2017/09/IMG_1697.jpg
GEO:32.732119;-117.1504179
X-APPLE-STRUCTURED-LOCATION;VALUE=URI;X-ADDRESS=The San Diego Museum of Art 1450 El Prado San Diego CA 92102 United States;X-APPLE-RADIUS=500;X-TITLE=1450 El Prado:geo:-117.1504179,32.732119
END:VEVENT
END:VCALENDAR