BEGIN:VCALENDAR
VERSION:2.0
PRODID:-//San Diego Museum of Art - ECPv6.7.0//NONSGML v1.0//EN
CALSCALE:GREGORIAN
METHOD:PUBLISH
X-ORIGINAL-URL:https://www.sdmart.org
X-WR-CALDESC:Events for San Diego Museum of Art
REFRESH-INTERVAL;VALUE=DURATION:PT1H
X-Robots-Tag:noindex
X-PUBLISHED-TTL:PT1H
BEGIN:VTIMEZONE
TZID:UTC
BEGIN:STANDARD
TZOFFSETFROM:+0000
TZOFFSETTO:+0000
TZNAME:UTC
DTSTART:20170101T000000
END:STANDARD
TZID:America/Los_Angeles
BEGIN:DAYLIGHT
TZOFFSETFROM:-0800
TZOFFSETTO:-0700
TZNAME:PDT
DTSTART:20170312T100000
END:DAYLIGHT
BEGIN:STANDARD
TZOFFSETFROM:-0700
TZOFFSETTO:-0800
TZNAME:PST
DTSTART:20171105T090000
END:STANDARD
END:VTIMEZONE
BEGIN:VEVENT
DTSTART;TZID=UTC:20171020T100000
DTEND;TZID=UTC:20171020T100000
DTSTAMP:20260424T165522
CREATED:20170522T092831Z
LAST-MODIFIED:20171023T165248Z
UID:1051-1508493600-1508493600@www.sdmart.org
SUMMARY:Reinventing the Museum: The Visionary Future of the Los Angeles County Museum of Art
DESCRIPTION:Guest Lecture and Tour Series\n\nSpeaker: Michael Govan\, CEO and Wallis Annenberg Director of the Los Angeles Country Museum of Art. \nSee the full list of speakers for the 2017-18 Guest Lecture and Tour Series. \nTickets: $13 members / $16 nonmembers / $8 seniors\, military / $5 students \nSeries Tickets: $99 members / $126 nonmembers / $54 seniors\, military / $20 students \nTo purchase series tickets please call 619.696.1935. \nMichael Govan\, the Director of the Los Angeles County Museum of Art\, in front of Chris Burden’s “Urban Light.” Credit. Emily Berl for The New York Times
URL:https://www.sdmart.org/event/reinventing-the-museum-the-visionary-future-of-the-los-angeles-county-museum-of-art/
LOCATION:James S. Copley Auditorium\, 1450 El Prado\, San Diego\, CA\, 92101\, United States
CATEGORIES:Guest Lecture Series,Lecture-old
ATTACH;FMTTYPE=image/jpeg:https://www.sdmart.org/wp-content/uploads/2017/05/michael_govan2.jpg
END:VEVENT
BEGIN:VEVENT
DTSTART;TZID=America/Los_Angeles:20171020T170000
DTEND;TZID=America/Los_Angeles:20171020T200000
DTSTAMP:20260424T165522
CREATED:20170921T231832Z
LAST-MODIFIED:20170922T002920Z
UID:4669-1508518800-1508529600@www.sdmart.org
SUMMARY:No Art After Hours
DESCRIPTION:There will  be no Art After Hours on Friday\, October 20\, 2017 due to the Friends’ Lecture & Reception for Modern Masters from Latin America: The Pérez Simón Collection.
URL:https://www.sdmart.org/event/no-art-hours/
CATEGORIES:Art After Hours
END:VEVENT
BEGIN:VEVENT
DTSTART;TZID=America/Los_Angeles:20171020T180000
DTEND;TZID=America/Los_Angeles:20171020T200000
DTSTAMP:20260424T165522
CREATED:20170911T214757Z
LAST-MODIFIED:20171011T235228Z
UID:4556-1508522400-1508529600@www.sdmart.org
SUMMARY:Friends' Lecture & Reception: Modern Masters from Latin America
DESCRIPTION:Friday\, October 20\n6:00–8:00 p.m. \nExclusively for Friend level members and above. \nJoin fellow Friend level members for a fascinating discussion with the Museum’s executive director Roxana Velásquez and the collector Juan Antonio Pérez Simón. Then preview the exhibition Modern Masters from Latin America: The Pérez Simón Collection after a reception in the rotunda. \nFrida Kahlo\, Girl form Tehuacán\, Lucha María or Sun and Moon (Niña tehuacana\, Lucha María o Sol y luna)\, 1942. Oil on Masonite. Colección Pérez Simón\, Mexico © Rafael Doniz.
URL:https://www.sdmart.org/event/friends-lecture-reception-modern-masters-latin-america/
LOCATION:James S. Copley Auditorium\, 1450 El Prado\, San Diego\, CA\, 92101\, United States
CATEGORIES:Lecture-old,Member Event
ATTACH;FMTTYPE=image/jpeg:https://www.sdmart.org/wp-content/uploads/2017/07/Niña-tehuacana-Lucha-María-o-Sol-y-luna_lowres-1.jpg
END:VEVENT
END:VCALENDAR