BEGIN:VCALENDAR
VERSION:2.0
PRODID:-//San Diego Museum of Art - ECPv6.7.0//NONSGML v1.0//EN
CALSCALE:GREGORIAN
METHOD:PUBLISH
X-ORIGINAL-URL:https://www.sdmart.org
X-WR-CALDESC:Events for San Diego Museum of Art
REFRESH-INTERVAL;VALUE=DURATION:PT1H
X-Robots-Tag:noindex
X-PUBLISHED-TTL:PT1H
BEGIN:VTIMEZONE
TZID:America/Los_Angeles
BEGIN:DAYLIGHT
TZOFFSETFROM:-0800
TZOFFSETTO:-0700
TZNAME:PDT
DTSTART:20170312T100000
END:DAYLIGHT
BEGIN:STANDARD
TZOFFSETFROM:-0700
TZOFFSETTO:-0800
TZNAME:PST
DTSTART:20171105T090000
END:STANDARD
END:VTIMEZONE
BEGIN:VEVENT
DTSTART;TZID=America/Los_Angeles:20171028T200000
DTEND;TZID=America/Los_Angeles:20171028T220000
DTSTAMP:20260424T153036
CREATED:20170911T230255Z
LAST-MODIFIED:20171028T234030Z
UID:4576-1509220800-1509228000@www.sdmart.org
SUMMARY:Portraits in Jazz Concert Series: Spooky Jazz
DESCRIPTION:Saturday\, October 28\n8:00 p.m. Pre-concert talk\n8:30 p.m. Concert \nGet in the spirit with Halloween-inspired music. Presented by Gilbert Castellanos\, this concert will feature works by jazz artists such as Thelonious Monk\, Anita O’Day\, Lambert Hendricks & Ross\, Philly Joe Jones\, and Charles Mingus just to name a few. \nPresale: $10 members / $20 nonmembers\nAt the door: $15 members / $25 nonmembers \nNOTE: ONLINE TICKETS ARE CLOSED BUT TICKETS WILL BE AVAILABLE AT THE DOOR.
URL:https://www.sdmart.org/event/4576/
LOCATION:James S. Copley Auditorium\, 1450 El Prado\, San Diego\, CA\, 92101\, United States
CATEGORIES:Music,Panama 66
ATTACH;FMTTYPE=image/jpeg:https://www.sdmart.org/wp-content/uploads/2017/06/474434_10151582399213291_1666051405_o.jpg
END:VEVENT
END:VCALENDAR