BEGIN:VCALENDAR
VERSION:2.0
PRODID:-//San Diego Museum of Art - ECPv6.7.0//NONSGML v1.0//EN
CALSCALE:GREGORIAN
METHOD:PUBLISH
X-ORIGINAL-URL:https://www.sdmart.org
X-WR-CALDESC:Events for San Diego Museum of Art
REFRESH-INTERVAL;VALUE=DURATION:PT1H
X-Robots-Tag:noindex
X-PUBLISHED-TTL:PT1H
BEGIN:VTIMEZONE
TZID:America/Los_Angeles
BEGIN:DAYLIGHT
TZOFFSETFROM:-0800
TZOFFSETTO:-0700
TZNAME:PDT
DTSTART:20170312T100000
END:DAYLIGHT
BEGIN:STANDARD
TZOFFSETFROM:-0700
TZOFFSETTO:-0800
TZNAME:PST
DTSTART:20171105T090000
END:STANDARD
END:VTIMEZONE
BEGIN:VEVENT
DTSTART;TZID=America/Los_Angeles:20171113T190000
DTEND;TZID=America/Los_Angeles:20171113T210000
DTSTAMP:20260424T083903
CREATED:20171003T195034Z
LAST-MODIFIED:20171003T195103Z
UID:4790-1510599600-1510606800@www.sdmart.org
SUMMARY:Artist Talk: James Kendall Higgins
DESCRIPTION:James Kendall Higgins\, known for his minimalist painting style\, has spent more than three decades working with architects and interior designers with emphasis in fine art\, graphics\, product design\, packaging\,residential and hospitality lighting and furniture design. His works are in numerous private and corporate collections worldwide. For more information & location of event\, contact Robin J. Lipman at tomayto@aol.com. \nFree for CAC members/1st time guests \nSponsored by the Contemporary Arts Committee.
URL:https://www.sdmart.org/event/artist-talk-james-kendall-higgins-2/
CATEGORIES:Artist Talk,Lecture-old,Support Council
END:VEVENT
END:VCALENDAR