BEGIN:VCALENDAR
VERSION:2.0
PRODID:-//San Diego Museum of Art - ECPv6.7.0//NONSGML v1.0//EN
CALSCALE:GREGORIAN
METHOD:PUBLISH
X-WR-CALNAME:San Diego Museum of Art
X-ORIGINAL-URL:https://www.sdmart.org
X-WR-CALDESC:Events for San Diego Museum of Art
REFRESH-INTERVAL;VALUE=DURATION:PT1H
X-Robots-Tag:noindex
X-PUBLISHED-TTL:PT1H
BEGIN:VTIMEZONE
TZID:America/Los_Angeles
BEGIN:DAYLIGHT
TZOFFSETFROM:-0800
TZOFFSETTO:-0700
TZNAME:PDT
DTSTART:20170312T100000
END:DAYLIGHT
BEGIN:STANDARD
TZOFFSETFROM:-0700
TZOFFSETTO:-0800
TZNAME:PST
DTSTART:20171105T090000
END:STANDARD
END:VTIMEZONE
BEGIN:VEVENT
DTSTART;TZID=America/Los_Angeles:20171121T190000
DTEND;TZID=America/Los_Angeles:20171121T190000
DTSTAMP:20260424T120900
CREATED:20171011T185316Z
LAST-MODIFIED:20171119T150017Z
UID:4849-1511290800-1511290800@www.sdmart.org
SUMMARY:Art of Élan: Latin American Voices
DESCRIPTION:Tuesday\, November 21\n7:00 p.m. \nArt of Élan’s gallery concert series at The San Diego Museum of Art kicks off with a special Thanksgiving week concert that draws inspiration from Modern Masters from Latin America: The Pérez Simón Collection. This exhibition charts a trajectory from the late 1800s to the first decade of this century\, showcasing the work of seminal figures from countries including Argentina\, Chile\, Colombia\, Cuba\, Mexico\, Peru\, Brazil\, and Uruguay.  The concert will feature works by Tania Leon\, Gabriela Ortiz\, Heitor Villa-Lobos\, among others. \n\nTo purchase an Art of Élan series pass for members or non-members\, please add all 3 concert tickets to your cart.
URL:https://www.sdmart.org/event/art-elan-latin-american-voices/
LOCATION:The San Diego Museum of Art\, 1450 El Prado\, San Diego\, CA\, 92102\, United States
CATEGORIES:Music
ATTACH;FMTTYPE=image/jpeg:https://www.sdmart.org/wp-content/uploads/2017/10/OA6A0240.jpg
GEO:32.732119;-117.1504179
X-APPLE-STRUCTURED-LOCATION;VALUE=URI;X-ADDRESS=The San Diego Museum of Art 1450 El Prado San Diego CA 92102 United States;X-APPLE-RADIUS=500;X-TITLE=1450 El Prado:geo:-117.1504179,32.732119
END:VEVENT
END:VCALENDAR