BEGIN:VCALENDAR
VERSION:2.0
PRODID:-//San Diego Museum of Art - ECPv6.7.0//NONSGML v1.0//EN
CALSCALE:GREGORIAN
METHOD:PUBLISH
X-ORIGINAL-URL:https://www.sdmart.org
X-WR-CALDESC:Events for San Diego Museum of Art
REFRESH-INTERVAL;VALUE=DURATION:PT1H
X-Robots-Tag:noindex
X-PUBLISHED-TTL:PT1H
BEGIN:VTIMEZONE
TZID:America/Los_Angeles
BEGIN:DAYLIGHT
TZOFFSETFROM:-0800
TZOFFSETTO:-0700
TZNAME:PDT
DTSTART:20170312T100000
END:DAYLIGHT
BEGIN:STANDARD
TZOFFSETFROM:-0700
TZOFFSETTO:-0800
TZNAME:PST
DTSTART:20171105T090000
END:STANDARD
END:VTIMEZONE
BEGIN:VEVENT
DTSTART;TZID=America/Los_Angeles:20171208T190000
DTEND;TZID=America/Los_Angeles:20171208T223000
DTSTAMP:20260420T095035
CREATED:20170906T192242Z
LAST-MODIFIED:20171206T233536Z
UID:4397-1512759600-1512772200@www.sdmart.org
SUMMARY:Exhibition on Screen: I\, Claude Monet
DESCRIPTION:Friday\, December 8\n7:00 p.m. Lecture\n8:00 p.m. Film \n\n\nFrom award-winning director Phil Grabsky comes this fresh look at Claude Monet’s life. Pairing excerpts from over 2\,500 of Monet’s letters with the paintings he was working on at the time and contemporary views of the environments in which he worked\, this ﬁlm provides insight into the painter’s process and creative translation of nature\, and his perseverance and dedication in the face of hardship and discouragement. Prior to the ﬁlm\, Eric Haskell\, Professor of French and Humanities and Director of the Clark Humanities Museum at Scripps College\, will present a lecture on the relationship between Claude Monet’s gardening practices and painterly techniques. This film is presented in conjunction with the special exhibition Reflections On Monet\, on view through January 21\, 2018. 2017\, not rated\, 2 hours and 9 minutes.  \nShow your ﬁlm screening ticket for free Museum admission during Art After Hours on Friday\, December 8\, 2017\, from 5:00–8:00 p.m. \n$5 members\, students / $7.50 seniors\, military / $10 nonmembers
URL:https://www.sdmart.org/event/exhibition-screen-claude-monet/
LOCATION:James S. Copley Auditorium\, 1450 El Prado\, San Diego\, CA\, 92101\, United States
CATEGORIES:Art After Hours,Film
ATTACH;FMTTYPE=image/jpeg:https://www.sdmart.org/wp-content/uploads/2017/09/i-claude-e1498579002389.jpg
END:VEVENT
END:VCALENDAR