BEGIN:VCALENDAR
VERSION:2.0
PRODID:-//San Diego Museum of Art - ECPv6.7.0//NONSGML v1.0//EN
CALSCALE:GREGORIAN
METHOD:PUBLISH
X-ORIGINAL-URL:https://www.sdmart.org
X-WR-CALDESC:Events for San Diego Museum of Art
REFRESH-INTERVAL;VALUE=DURATION:PT1H
X-Robots-Tag:noindex
X-PUBLISHED-TTL:PT1H
BEGIN:VTIMEZONE
TZID:America/Los_Angeles
BEGIN:DAYLIGHT
TZOFFSETFROM:-0800
TZOFFSETTO:-0700
TZNAME:PDT
DTSTART:20170312T100000
END:DAYLIGHT
BEGIN:STANDARD
TZOFFSETFROM:-0700
TZOFFSETTO:-0800
TZNAME:PST
DTSTART:20171105T090000
END:STANDARD
END:VTIMEZONE
BEGIN:VEVENT
DTSTART;TZID=America/Los_Angeles:20171209T100000
DTEND;TZID=America/Los_Angeles:20171209T170000
DTSTAMP:20260420T095711
CREATED:20171204T194347Z
LAST-MODIFIED:20171206T175345Z
UID:5448-1512813600-1512838800@www.sdmart.org
SUMMARY:Jewelry Artisan Showcase
DESCRIPTION:Join us for an artisan showcase of local La Jolla favorite Sheri Liebert\, featuring her latest holiday designs.
URL:https://www.sdmart.org/event/jewelry-artisan-showcase-sheri-liebert/
LOCATION:The Museum Store\, 1450 El Prado\, San Diego\, CA\, 92101\, United States
CATEGORIES:Museum Store
GEO:32.732119;-117.1504179
X-APPLE-STRUCTURED-LOCATION;VALUE=URI;X-ADDRESS=The Museum Store 1450 El Prado San Diego CA 92101 United States;X-APPLE-RADIUS=500;X-TITLE=1450 El Prado:geo:-117.1504179,32.732119
END:VEVENT
END:VCALENDAR