BEGIN:VCALENDAR
VERSION:2.0
PRODID:-//San Diego Museum of Art - ECPv6.7.0//NONSGML v1.0//EN
CALSCALE:GREGORIAN
METHOD:PUBLISH
X-WR-CALNAME:San Diego Museum of Art
X-ORIGINAL-URL:https://www.sdmart.org
X-WR-CALDESC:Events for San Diego Museum of Art
REFRESH-INTERVAL;VALUE=DURATION:PT1H
X-Robots-Tag:noindex
X-PUBLISHED-TTL:PT1H
BEGIN:VTIMEZONE
TZID:America/Los_Angeles
BEGIN:DAYLIGHT
TZOFFSETFROM:-0800
TZOFFSETTO:-0700
TZNAME:PDT
DTSTART:20170312T100000
END:DAYLIGHT
BEGIN:STANDARD
TZOFFSETFROM:-0700
TZOFFSETTO:-0800
TZNAME:PST
DTSTART:20171105T090000
END:STANDARD
END:VTIMEZONE
BEGIN:VEVENT
DTSTART;TZID=America/Los_Angeles:20171211T190000
DTEND;TZID=America/Los_Angeles:20171211T213000
DTSTAMP:20260424T085620
CREATED:20170911T213840Z
LAST-MODIFIED:20170911T213840Z
UID:4554-1513018800-1513027800@www.sdmart.org
SUMMARY:Contemporary Arts Committee Holiday Party
DESCRIPTION:Monday\, December 11\n7:00 p.m.\nContact the Support Council for location \nJoin the Contemporary Arts Committee for their annual holiday party celebrating the year in art. The party will include a potluck—for further information and location\ndetails contact Robin J. Lipman at tomayto@aol.com. \nFree CAC members / 1st time guests $20 each \nSponsored by the Contemporary Arts Committee
URL:https://www.sdmart.org/event/contemporary-arts-committee-holiday-party/
CATEGORIES:Support Council
END:VEVENT
END:VCALENDAR