BEGIN:VCALENDAR
VERSION:2.0
PRODID:-//San Diego Museum of Art - ECPv6.7.0//NONSGML v1.0//EN
CALSCALE:GREGORIAN
METHOD:PUBLISH
X-ORIGINAL-URL:https://www.sdmart.org
X-WR-CALDESC:Events for San Diego Museum of Art
REFRESH-INTERVAL;VALUE=DURATION:PT1H
X-Robots-Tag:noindex
X-PUBLISHED-TTL:PT1H
BEGIN:VTIMEZONE
TZID:America/Los_Angeles
BEGIN:DAYLIGHT
TZOFFSETFROM:-0800
TZOFFSETTO:-0700
TZNAME:PDT
DTSTART:20170312T100000
END:DAYLIGHT
BEGIN:STANDARD
TZOFFSETFROM:-0700
TZOFFSETTO:-0800
TZNAME:PST
DTSTART:20171105T090000
END:STANDARD
END:VTIMEZONE
BEGIN:VEVENT
DTSTART;VALUE=DATE:20171218
DTEND;VALUE=DATE:20171219
DTSTAMP:20260420T124313
CREATED:20171207T014849Z
LAST-MODIFIED:20171207T015115Z
UID:5646-1513555200-1513641599@www.sdmart.org
SUMMARY:Gibson Guitar Online Auction: Last Day
DESCRIPTION:Through a generous donation from the Gibson Foundation\, The San Diego Museum of Art shares for the first time the The Shepherdess Gibson Les Paul. The guitar is named after The Young Shepherdess (1885) by William Adolphe Bouguereau\, a painting which hangs in the Museum’s Upper Rotunda. Infused with the artistic vision of Chor Boogie\, a critically acclaimed spray paint artist\, and the spirit of The San Diego Museum of Art\, this guitar exemplifies what it means to bring fine art and music together. Charged with the vision of the Museum\, this treasure of rock and roll will be auctioned off for the holiday season. Proceeds from the online sale will support the mission of the Museum to “inspire\, educate\, and cultivate curiosity through great works of art.” \nThe auction is now LIVE and ends on 12/18 at 4 p.m!
URL:https://www.sdmart.org/event/gibson-guitar-online-auction-end/
CATEGORIES:Music,Other
ATTACH;FMTTYPE=image/jpeg:https://www.sdmart.org/wp-content/uploads/2017/12/gibsonguitar1_600px.jpg
END:VEVENT
END:VCALENDAR