BEGIN:VCALENDAR
VERSION:2.0
PRODID:-//San Diego Museum of Art - ECPv6.7.0//NONSGML v1.0//EN
CALSCALE:GREGORIAN
METHOD:PUBLISH
X-WR-CALNAME:San Diego Museum of Art
X-ORIGINAL-URL:https://www.sdmart.org
X-WR-CALDESC:Events for San Diego Museum of Art
REFRESH-INTERVAL;VALUE=DURATION:PT1H
X-Robots-Tag:noindex
X-PUBLISHED-TTL:PT1H
BEGIN:VTIMEZONE
TZID:America/Los_Angeles
BEGIN:DAYLIGHT
TZOFFSETFROM:-0800
TZOFFSETTO:-0700
TZNAME:PDT
DTSTART:20170312T100000
END:DAYLIGHT
BEGIN:STANDARD
TZOFFSETFROM:-0700
TZOFFSETTO:-0800
TZNAME:PST
DTSTART:20171105T090000
END:STANDARD
END:VTIMEZONE
BEGIN:VEVENT
DTSTART;TZID=America/Los_Angeles:20171219T120000
DTEND;TZID=America/Los_Angeles:20171219T123000
DTSTAMP:20260420T111438
CREATED:20171204T193214Z
LAST-MODIFIED:20171204T193249Z
UID:5444-1513684800-1513686600@www.sdmart.org
SUMMARY:ArtStop: European Portraits
DESCRIPTION:Tuesday\, December 19\nNoon \nThe development of the European portrait is traced from Giorgione’s exquisite and revolutionary portrait of 1506 to Goya’s thoroughly modern Duque de la Roca of 1795. This lecture is held in relation to the exhibit Art of the Portrait. \nFree with Museum admission.
URL:https://www.sdmart.org/event/artstop-european-portraits/
LOCATION:The San Diego Museum of Art\, 1450 El Prado\, San Diego\, CA\, 92102\, United States
CATEGORIES:Education,Lecture-old
ATTACH;FMTTYPE=image/jpeg:https://www.sdmart.org/wp-content/uploads/2017/05/CollectionsConversation.jpg
GEO:32.732119;-117.1504179
X-APPLE-STRUCTURED-LOCATION;VALUE=URI;X-ADDRESS=The San Diego Museum of Art 1450 El Prado San Diego CA 92102 United States;X-APPLE-RADIUS=500;X-TITLE=1450 El Prado:geo:-117.1504179,32.732119
END:VEVENT
END:VCALENDAR