BEGIN:VCALENDAR
VERSION:2.0
PRODID:-//San Diego Museum of Art - ECPv6.7.0//NONSGML v1.0//EN
CALSCALE:GREGORIAN
METHOD:PUBLISH
X-WR-CALNAME:San Diego Museum of Art
X-ORIGINAL-URL:https://www.sdmart.org
X-WR-CALDESC:Events for San Diego Museum of Art
REFRESH-INTERVAL;VALUE=DURATION:PT1H
X-Robots-Tag:noindex
X-PUBLISHED-TTL:PT1H
BEGIN:VTIMEZONE
TZID:America/Los_Angeles
BEGIN:DAYLIGHT
TZOFFSETFROM:-0800
TZOFFSETTO:-0700
TZNAME:PDT
DTSTART:20180311T100000
END:DAYLIGHT
BEGIN:STANDARD
TZOFFSETFROM:-0700
TZOFFSETTO:-0800
TZNAME:PST
DTSTART:20181104T090000
END:STANDARD
END:VTIMEZONE
BEGIN:VEVENT
DTSTART;TZID=America/Los_Angeles:20180103T103000
DTEND;TZID=America/Los_Angeles:20180103T120000
DTSTAMP:20260420T093503
CREATED:20170831T184209Z
LAST-MODIFIED:20171204T184414Z
UID:4343-1514975400-1514980800@www.sdmart.org
SUMMARY:A Day in the Life of the Chief Curator
DESCRIPTION:Wednesday\, January 3\n10:30 a.m. \n\nWhat does the Deputy Director for Curatorial Affairs and Education actually do? Anita Feldman provides an insider’s overview of strategies\, plans\, and projects since her arrival at The San Diego Museum of Art three years ago. Prior to this\, Feldman was Head of Collections and Exhibitions for the Henry Moore Foundation in England\, curating exhibitions in more than 25 countries. \nFree \nSponsored by the Arts Education Council
URL:https://www.sdmart.org/event/day-life-chief-curator/
LOCATION:Grossmont Healthcare Center Auditorium\, 9001 Wakarusa Street\, La Mesa\, CA\, 91942\, United States
CATEGORIES:Lecture-old,Support Council
ATTACH;FMTTYPE=image/jpeg:https://www.sdmart.org/wp-content/uploads/2017/05/DSC_0045_HEADER_web.jpg
GEO:32.7815161;-117.0040487
X-APPLE-STRUCTURED-LOCATION;VALUE=URI;X-ADDRESS=Grossmont Healthcare Center Auditorium 9001 Wakarusa Street La Mesa CA 91942 United States;X-APPLE-RADIUS=500;X-TITLE=9001 Wakarusa Street:geo:-117.0040487,32.7815161
END:VEVENT
END:VCALENDAR