BEGIN:VCALENDAR
VERSION:2.0
PRODID:-//San Diego Museum of Art - ECPv6.7.0//NONSGML v1.0//EN
CALSCALE:GREGORIAN
METHOD:PUBLISH
X-WR-CALNAME:San Diego Museum of Art
X-ORIGINAL-URL:https://www.sdmart.org
X-WR-CALDESC:Events for San Diego Museum of Art
REFRESH-INTERVAL;VALUE=DURATION:PT1H
X-Robots-Tag:noindex
X-PUBLISHED-TTL:PT1H
BEGIN:VTIMEZONE
TZID:America/Los_Angeles
BEGIN:DAYLIGHT
TZOFFSETFROM:-0800
TZOFFSETTO:-0700
TZNAME:PDT
DTSTART:20180311T100000
END:DAYLIGHT
BEGIN:STANDARD
TZOFFSETFROM:-0700
TZOFFSETTO:-0800
TZNAME:PST
DTSTART:20181104T090000
END:STANDARD
END:VTIMEZONE
BEGIN:VEVENT
DTSTART;TZID=America/Los_Angeles:20180105T200000
DTEND;TZID=America/Los_Angeles:20180105T200000
DTSTAMP:20260420T082208
CREATED:20171003T172218Z
LAST-MODIFIED:20171211T235101Z
UID:4736-1515182400-1515182400@www.sdmart.org
SUMMARY:Wild Tales
DESCRIPTION:Friday\, January 5\n8:00 p.m. Film \nPresented as part of a film series of five films that bring to life characters\, stories\, issues\, and themes portrayed or evoked in Modern Masters from Latin America: The Pérez Simón Collection. \nWild Tales is a provocative exploration of violence and revenge told in six darkly comic vignettes.\n(Argentina\, 2014) Rated R \n$10 general admission / $7.50 seniors and military / $5 members and students \nShow your ﬁlm screening ticket for free Museum admission during Art After Hours  from 5:00–8:00 p.m.
URL:https://www.sdmart.org/event/wild-tales/
LOCATION:James S. Copley Auditorium\, 1450 El Prado\, San Diego\, CA\, 92101\, United States
CATEGORIES:Film
ATTACH;FMTTYPE=image/jpeg:https://www.sdmart.org/wp-content/uploads/2017/10/crop_KP_143246_1200x720.jpeg
END:VEVENT
END:VCALENDAR