BEGIN:VCALENDAR
VERSION:2.0
PRODID:-//San Diego Museum of Art - ECPv6.7.0//NONSGML v1.0//EN
CALSCALE:GREGORIAN
METHOD:PUBLISH
X-ORIGINAL-URL:https://www.sdmart.org
X-WR-CALDESC:Events for San Diego Museum of Art
REFRESH-INTERVAL;VALUE=DURATION:PT1H
X-Robots-Tag:noindex
X-PUBLISHED-TTL:PT1H
BEGIN:VTIMEZONE
TZID:America/Los_Angeles
BEGIN:DAYLIGHT
TZOFFSETFROM:-0800
TZOFFSETTO:-0700
TZNAME:PDT
DTSTART:20180311T100000
END:DAYLIGHT
BEGIN:STANDARD
TZOFFSETFROM:-0700
TZOFFSETTO:-0800
TZNAME:PST
DTSTART:20181104T090000
END:STANDARD
END:VTIMEZONE
BEGIN:VEVENT
DTSTART;TZID=America/Los_Angeles:20180120T150000
DTEND;TZID=America/Los_Angeles:20180120T180000
DTSTAMP:20260420T080635
CREATED:20171214T002558Z
LAST-MODIFIED:20171228T192114Z
UID:5835-1516460400-1516471200@www.sdmart.org
SUMMARY:The Cosmic Dance of Hindu and Buddhist Deities
DESCRIPTION:Saturday\, January 20\n3:00 p.m. Registration and Reception with Speaker\n3:30 p.m. Lecture \nMore often than the sacred beings of other cultures\, the gods of Hinduism and Buddhism dance. They express their creative and destructive energies through fluid rhythmic movements\, setting the pulse of the universe. In benign moods they dance gracefully in divine play. In stern moods they dance with a force that\, if fully unleashed\, could destroy worlds. Sculpture and paintings depicting deities including Shiva\, Krishna\, and the elephant-headed Ganesha\, together with video clips of dance performances\, will illuminate these ideas. \nThis lecture will be given by Forrest McGill. McGill is the Wattis Senior Curator of South and Southeast Asian Art at the Asian Art Museum of San Francisco. He has worked for forty years as a museum administrator and a teacher\, curator\, researcher\, and writer in Asian art. Major exhibitions of which he has been organizer or co-organizer include The Rama Epic: Hero\, Heroine\, Ally\, Foe (2016); Gorgeous (2014)\, a joint project with SFMOMA; Emerald Cities: Arts of Siam and Burma\, 1775-1950 (2009)\, A Curious Affair: The Fascination between East and West (2006)\, and The Kingdom of Siam: The Arts of Central Thailand\, 1350-1800 (2005). He served as editor for the catalogs of these exhibitions\, and wrote major essays for them. \nFree for CAIS members | $8 students | $10 members | $12 nonmembers \nHosted by the Committee for the Arts of the Indian Subcontinent \n\nFeatured: The Eternal Dance: Rasamandala (1700-1724) Watercolor from the Edwin Binney 3rd Collection 1990.969
URL:https://www.sdmart.org/event/cosmic-dance-hindu-buddhist-deities/
LOCATION:Museum Boardroom
CATEGORIES:Lecture-old,Support Council
ATTACH;FMTTYPE=image/jpeg:https://www.sdmart.org/wp-content/uploads/2017/12/The-Eternal-Dance-Rasamandala-1990.969.jpg
END:VEVENT
END:VCALENDAR