BEGIN:VCALENDAR
VERSION:2.0
PRODID:-//San Diego Museum of Art - ECPv6.7.0//NONSGML v1.0//EN
CALSCALE:GREGORIAN
METHOD:PUBLISH
X-WR-CALNAME:San Diego Museum of Art
X-ORIGINAL-URL:https://www.sdmart.org
X-WR-CALDESC:Events for San Diego Museum of Art
REFRESH-INTERVAL;VALUE=DURATION:PT1H
X-Robots-Tag:noindex
X-PUBLISHED-TTL:PT1H
BEGIN:VTIMEZONE
TZID:America/Los_Angeles
BEGIN:DAYLIGHT
TZOFFSETFROM:-0800
TZOFFSETTO:-0700
TZNAME:PDT
DTSTART:20180311T100000
END:DAYLIGHT
BEGIN:STANDARD
TZOFFSETFROM:-0700
TZOFFSETTO:-0800
TZNAME:PST
DTSTART:20181104T090000
END:STANDARD
END:VTIMEZONE
BEGIN:VEVENT
DTSTART;TZID=America/Los_Angeles:20180419T130000
DTEND;TZID=America/Los_Angeles:20180419T150000
DTSTAMP:20260424T153506
CREATED:20180119T001134Z
LAST-MODIFIED:20180119T001134Z
UID:6500-1524142800-1524150000@www.sdmart.org
SUMMARY:Fashion and Anxiety in Tang Dynasty China
DESCRIPTION:Thursday\, April 19\n1:00 p.m. \nDrawing from Tang dynasty historical documents as well the art and archaeological record of the period\, Suzanne Cahill\, Ph.D.\, retired UC San Diego history professor\, explores how values about fashion reflected social norms in the context of Tang society and culture. \nSponsored by the Asian Arts Council \nFree AAC members | $10 Museum members | $12 nonmembers | $8 students
URL:https://www.sdmart.org/event/fashion-anxiety-tang-dynasty-china/
LOCATION:Museum Boardroom
CATEGORIES:Lecture-old,Support Council
END:VEVENT
END:VCALENDAR