BEGIN:VCALENDAR
VERSION:2.0
PRODID:-//San Diego Museum of Art - ECPv6.7.0//NONSGML v1.0//EN
CALSCALE:GREGORIAN
METHOD:PUBLISH
X-WR-CALNAME:San Diego Museum of Art
X-ORIGINAL-URL:https://www.sdmart.org
X-WR-CALDESC:Events for San Diego Museum of Art
REFRESH-INTERVAL;VALUE=DURATION:PT1H
X-Robots-Tag:noindex
X-PUBLISHED-TTL:PT1H
BEGIN:VTIMEZONE
TZID:America/Los_Angeles
BEGIN:DAYLIGHT
TZOFFSETFROM:-0800
TZOFFSETTO:-0700
TZNAME:PDT
DTSTART:20180311T100000
END:DAYLIGHT
BEGIN:STANDARD
TZOFFSETFROM:-0700
TZOFFSETTO:-0800
TZNAME:PST
DTSTART:20181104T090000
END:STANDARD
END:VTIMEZONE
BEGIN:VEVENT
DTSTART;TZID=America/Los_Angeles:20181004T180000
DTEND;TZID=America/Los_Angeles:20181004T200000
DTSTAMP:20260423T111841
CREATED:20180913T201745Z
LAST-MODIFIED:20180929T204003Z
UID:10182-1538676000-1538683200@www.sdmart.org
SUMMARY:Teen Art Café: The Human Form
DESCRIPTION:Thursday\, October 4\n6:00–8:00 p.m.\nJames S. Copley Auditorium \nMeet and mingle with fellow teen artists as you learn about works on view. Participate in art projects led by Museum educators and artists\, enjoy special performances\, and go on an exclusive afterhours tour through the Museum. Light refreshments and opportunities to win prizes are available. Topics and activities are different each event. \nTo RSVP\, email your full name and the name of your school to teenartcafe@sdmart.org \nFree for teens. \nFeatured: Javier Marín\, Grupo L 1012\, 2016. Polyester resin and iron wire. © Armando Canto / Archive Javier Marín.
URL:https://www.sdmart.org/event/teen-art-cafe-the-human-form/
LOCATION:James S. Copley Auditorium\, 1450 El Prado\, San Diego\, CA\, 92101\, United States
CATEGORIES:Families,Teens
ATTACH;FMTTYPE=image/jpeg:https://www.sdmart.org/wp-content/uploads/2018/09/2H0A7192_web.jpg
END:VEVENT
END:VCALENDAR