BEGIN:VCALENDAR
VERSION:2.0
PRODID:-//San Diego Museum of Art - ECPv6.7.0//NONSGML v1.0//EN
CALSCALE:GREGORIAN
METHOD:PUBLISH
X-WR-CALNAME:San Diego Museum of Art
X-ORIGINAL-URL:https://www.sdmart.org
X-WR-CALDESC:Events for San Diego Museum of Art
REFRESH-INTERVAL;VALUE=DURATION:PT1H
X-Robots-Tag:noindex
X-PUBLISHED-TTL:PT1H
BEGIN:VTIMEZONE
TZID:America/Los_Angeles
BEGIN:DAYLIGHT
TZOFFSETFROM:-0800
TZOFFSETTO:-0700
TZNAME:PDT
DTSTART:20180311T100000
END:DAYLIGHT
BEGIN:STANDARD
TZOFFSETFROM:-0700
TZOFFSETTO:-0800
TZNAME:PST
DTSTART:20181104T090000
END:STANDARD
END:VTIMEZONE
BEGIN:VEVENT
DTSTART;TZID=America/Los_Angeles:20181006T040000
DTEND;TZID=America/Los_Angeles:20181006T190000
DTSTAMP:20260421T032324
CREATED:20180913T194544Z
LAST-MODIFIED:20180913T194544Z
UID:10156-1538798400-1538852400@www.sdmart.org
SUMMARY:Spotlight on Art Silent Auction & Cocktail Party
DESCRIPTION:Saturday\, October 6\n4:00–7:00 p.m.\nPrivate residence in Point Loma \nAttendees will enjoy a variety of enticing auction items\, delicious appetizers\, cocktails\, and live jazz. \n$75 per person\, limited tickets. Proceeds from this event benefit the SDMA/Arts Education Council Artist-in-Residence Program. \nFor tickets\, contact Linda Rankin at 619.469.3548 \nSponsored by the Arts Education Council
URL:https://www.sdmart.org/event/spotlight-on-art-silent-auction-cocktail-party/
CATEGORIES:Support Council
END:VEVENT
END:VCALENDAR