BEGIN:VCALENDAR
VERSION:2.0
PRODID:-//San Diego Museum of Art - ECPv6.7.0//NONSGML v1.0//EN
CALSCALE:GREGORIAN
METHOD:PUBLISH
X-WR-CALNAME:San Diego Museum of Art
X-ORIGINAL-URL:https://www.sdmart.org
X-WR-CALDESC:Events for San Diego Museum of Art
REFRESH-INTERVAL;VALUE=DURATION:PT1H
X-Robots-Tag:noindex
X-PUBLISHED-TTL:PT1H
BEGIN:VTIMEZONE
TZID:America/Los_Angeles
BEGIN:DAYLIGHT
TZOFFSETFROM:-0800
TZOFFSETTO:-0700
TZNAME:PDT
DTSTART:20180311T100000
END:DAYLIGHT
BEGIN:STANDARD
TZOFFSETFROM:-0700
TZOFFSETTO:-0800
TZNAME:PST
DTSTART:20181104T090000
END:STANDARD
END:VTIMEZONE
BEGIN:VEVENT
DTSTART;TZID=America/Los_Angeles:20181014T140000
DTEND;TZID=America/Los_Angeles:20181014T160000
DTSTAMP:20260423T095211
CREATED:20180808T234152Z
LAST-MODIFIED:20181004T001603Z
UID:9526-1539525600-1539532800@www.sdmart.org
SUMMARY:African Fashion in the Age of Wakanda
DESCRIPTION:Sunday\, October 14\n2:00 p.m.\nMuseum Boardroom \nThe fashion industry in Africa informs not only what people wear but also contemporary expressions in art\, film\, and video.  Dr. Peri Klemm\, professor of African art history at California State University\, Northridge\, will present an illustrated lecture on current trends in African fashion drawing largely on contemporary art and the movie Black Panther. \nFree APAC members and college students | $5 Museum members | $10 nonmembers \nSponsored by the African and Pacific Arts Council
URL:https://www.sdmart.org/event/african-fashion-in-the-age-of-wakanda/
LOCATION:Museum Boardroom
CATEGORIES:Lecture-old,Support Council
ATTACH;FMTTYPE=image/jpeg:https://www.sdmart.org/wp-content/uploads/2018/08/PastedGraphic-1.jpg
END:VEVENT
END:VCALENDAR