BEGIN:VCALENDAR
VERSION:2.0
PRODID:-//San Diego Museum of Art - ECPv6.7.0//NONSGML v1.0//EN
CALSCALE:GREGORIAN
METHOD:PUBLISH
X-WR-CALNAME:San Diego Museum of Art
X-ORIGINAL-URL:https://www.sdmart.org
X-WR-CALDESC:Events for San Diego Museum of Art
REFRESH-INTERVAL;VALUE=DURATION:PT1H
X-Robots-Tag:noindex
X-PUBLISHED-TTL:PT1H
BEGIN:VTIMEZONE
TZID:America/Los_Angeles
BEGIN:DAYLIGHT
TZOFFSETFROM:-0800
TZOFFSETTO:-0700
TZNAME:PDT
DTSTART:20180311T100000
END:DAYLIGHT
BEGIN:STANDARD
TZOFFSETFROM:-0700
TZOFFSETTO:-0800
TZNAME:PST
DTSTART:20181104T090000
END:STANDARD
END:VTIMEZONE
BEGIN:VEVENT
DTSTART;TZID=America/Los_Angeles:20181020T100000
DTEND;TZID=America/Los_Angeles:20181020T120000
DTSTAMP:20260421T081118
CREATED:20180807T193505Z
LAST-MODIFIED:20180827T191918Z
UID:9470-1540029600-1540036800@www.sdmart.org
SUMMARY:Tim Shaw: Beyond Reason Members' Preview
DESCRIPTION:Saturday\, October 20\n10:00 a.m.–Noon\nFree and exclusively for members \nBe among the first to see the premiere US exhibition of works by Northern Irish sculptor Tim Shaw. Shaw creates psychologically charged environments that address humanitarian issues\ndesigned to unsettle and provoke thought. His work raises questions about difficult and controversial topics such as global terrorism\, freedom of speech\, and the future of artificial intelligence. \nThe Tim Shaw: Beyond Reason Members’ Preview is free and exclusive for Museum members only. Not a member? Join today. \nPlease note: Due to the staff and logistics necessary for these installations\, there is an additional charge ($3) for nonmembers. One of the works in the exhibition\, The Birth of Breakdown\nClown\, is an interactive performance. Entry is on a first-come\, first-served basis.
URL:https://www.sdmart.org/event/tim-shaw-beyond-reason-members-preview/
LOCATION:The San Diego Museum of Art\, 1450 El Prado\, San Diego\, CA\, 92102\, United States
CATEGORIES:Member Event
ATTACH;FMTTYPE=image/jpeg:https://www.sdmart.org/wp-content/uploads/2018/07/Mother-4.jpg
GEO:32.732119;-117.1504179
X-APPLE-STRUCTURED-LOCATION;VALUE=URI;X-ADDRESS=The San Diego Museum of Art 1450 El Prado San Diego CA 92102 United States;X-APPLE-RADIUS=500;X-TITLE=1450 El Prado:geo:-117.1504179,32.732119
END:VEVENT
BEGIN:VEVENT
DTSTART;TZID=America/Los_Angeles:20181020T120000
DTEND;TZID=America/Los_Angeles:20181020T120000
DTSTAMP:20260421T081118
CREATED:20180807T180549Z
LAST-MODIFIED:20180807T193703Z
UID:9467-1540036800-1540036800@www.sdmart.org
SUMMARY:Tim Shaw: Beyond Reason Opens
DESCRIPTION:Saturday\, October 20\nNoon \nTim Shaw: Beyond Reason opens at noon to the public. Northern Irish sculptor Tim Shaw creates psychologically charged environments that address humanitarian issues designed to unsettle and provoke thought. His work raises questions about difficult and controversial topics such as global terrorism\, freedom of speech\, and the future of artificial intelligence.
URL:https://www.sdmart.org/event/tim-shaw-beyond-reason-opens/
LOCATION:The San Diego Museum of Art\, 1450 El Prado\, San Diego\, CA\, 92102\, United States
CATEGORIES:Exhibitions
ATTACH;FMTTYPE=image/jpeg:https://www.sdmart.org/wp-content/uploads/2018/07/Mother-4.jpg
GEO:32.732119;-117.1504179
X-APPLE-STRUCTURED-LOCATION;VALUE=URI;X-ADDRESS=The San Diego Museum of Art 1450 El Prado San Diego CA 92102 United States;X-APPLE-RADIUS=500;X-TITLE=1450 El Prado:geo:-117.1504179,32.732119
END:VEVENT
END:VCALENDAR