BEGIN:VCALENDAR
VERSION:2.0
PRODID:-//San Diego Museum of Art - ECPv6.7.0//NONSGML v1.0//EN
CALSCALE:GREGORIAN
METHOD:PUBLISH
X-WR-CALNAME:San Diego Museum of Art
X-ORIGINAL-URL:https://www.sdmart.org
X-WR-CALDESC:Events for San Diego Museum of Art
REFRESH-INTERVAL;VALUE=DURATION:PT1H
X-Robots-Tag:noindex
X-PUBLISHED-TTL:PT1H
BEGIN:VTIMEZONE
TZID:America/Los_Angeles
BEGIN:DAYLIGHT
TZOFFSETFROM:-0800
TZOFFSETTO:-0700
TZNAME:PDT
DTSTART:20180311T100000
END:DAYLIGHT
BEGIN:STANDARD
TZOFFSETFROM:-0700
TZOFFSETTO:-0800
TZNAME:PST
DTSTART:20181104T090000
END:STANDARD
END:VTIMEZONE
BEGIN:VEVENT
DTSTART;TZID=America/Los_Angeles:20181023T110000
DTEND;TZID=America/Los_Angeles:20181023T160000
DTSTAMP:20260425T082658
CREATED:20180913T172114Z
LAST-MODIFIED:20180913T173711Z
UID:10089-1540292400-1540310400@www.sdmart.org
SUMMARY:Artists Guild 2018 Membership Exhibition
DESCRIPTION:October 23–November 5\, 2018\nGallery 21\nSpanish Village\, Balboa Park \nSee some of the best of San Diego art by members of the Artists Guild on display this fall. Many media are represented\, including painting\, drawing\, prints\, sculpture\, bas-relief\, photographic and digital art\, and more. This is a juried exhibition. Jeff Yeomans\, fine artist and teacher will award first\, second\, and third place to entries. \nThe exhibition will be open 11:00 a.m.–4:00 p.m. daily with an Artists Reception on October 28\, 4:00–6:00 p.m. \nSponsored by the Artists Guild
URL:https://www.sdmart.org/event/artists-guild-2018-membership-exhibition/
LOCATION:Spanish Village\, Balboa Park\, 1770 Village Pl\, San Diego\, CA\, 92101\, United States
CATEGORIES:Support Council
GEO:32.7337437;-117.1473854
X-APPLE-STRUCTURED-LOCATION;VALUE=URI;X-ADDRESS=Spanish Village Balboa Park 1770 Village Pl San Diego CA 92101 United States;X-APPLE-RADIUS=500;X-TITLE=1770 Village Pl:geo:-117.1473854,32.7337437
END:VEVENT
END:VCALENDAR