BEGIN:VCALENDAR
VERSION:2.0
PRODID:-//San Diego Museum of Art - ECPv6.7.0//NONSGML v1.0//EN
CALSCALE:GREGORIAN
METHOD:PUBLISH
X-ORIGINAL-URL:https://www.sdmart.org
X-WR-CALDESC:Events for San Diego Museum of Art
REFRESH-INTERVAL;VALUE=DURATION:PT1H
X-Robots-Tag:noindex
X-PUBLISHED-TTL:PT1H
BEGIN:VTIMEZONE
TZID:America/Los_Angeles
BEGIN:DAYLIGHT
TZOFFSETFROM:-0800
TZOFFSETTO:-0700
TZNAME:PDT
DTSTART:20180311T100000
END:DAYLIGHT
BEGIN:STANDARD
TZOFFSETFROM:-0700
TZOFFSETTO:-0800
TZNAME:PST
DTSTART:20181104T090000
END:STANDARD
END:VTIMEZONE
BEGIN:VEVENT
DTSTART;TZID=America/Los_Angeles:20181025T130000
DTEND;TZID=America/Los_Angeles:20181025T150000
DTSTAMP:20260421T133549
CREATED:20180913T173025Z
LAST-MODIFIED:20180913T173253Z
UID:10094-1540472400-1540479600@www.sdmart.org
SUMMARY:Art in an Era of Globalization; the Tang Dynasty
DESCRIPTION:Thursday\, October 25\n1:00 p.m.\nMuseum Boardroom \nDr. Tom Dillon\, member of the Asian Arts Council Study Group and a retired SAIC executive will discuss Tang art and how its optimism\, energy\, and a frank acceptance of reality inform its painting\, architecture\, and decorative Arts. During the Tang Dynasty\, an unusual hundred-year (665–766) “golden era\,” the arts flourished\, overseen by the only empress regnant in Chinese history\, We Zhao\, and her son\, the Emperor Xuanzong. \nFree AAC members | $10 Museum members | $12 nonmembers | $8 students \nSponsored by the Asian Arts Council
URL:https://www.sdmart.org/event/art-in-an-era-of-globalization-the-tang-dynasty/
LOCATION:Museum Boardroom
CATEGORIES:Lecture-old,Support Council
END:VEVENT
BEGIN:VEVENT
DTSTART;TZID=America/Los_Angeles:20181025T180000
DTEND;TZID=America/Los_Angeles:20181025T200000
DTSTAMP:20260421T133549
CREATED:20180628T164043Z
LAST-MODIFIED:20181020T031737Z
UID:8976-1540490400-1540497600@www.sdmart.org
SUMMARY:A Conversation with Nick Cave
DESCRIPTION:Thursday\, October 25\n6:00 p.m.\nJames S. Copley Auditorium \n\nThis event is now SOLD OUT!\nA Conversation with Nick Cave\nModerated by Edward Goldman\nNick Cave is an American artist working with a variety of media in the space between the visual and performing arts\, including sculpture\, installation\, performance\, and video\, all at the intersection of art and fashion. He is best known for his series of Soundsuits\, colorful and fantastic creations that function as large-scale static sculptures as well as wearable camouflage. The works tell stories through dance and movement while concealing all aspects of gender\, race and class. Cave also spearheads the Graduate Program in the Department of Fashion at the Art Institute of Chicago\, and is an Alvin Ailey-trained dancer. \nFREE to SDSU students with ID | $5 Members and non-SDSU students | $7.50 seniors and military | $10 general admission \n  \n\n\nMichele Schlecht has generously underwritten Mr. Cave’s visit to San Diego. \n\nTicket holders to A Conversation with Nick Cave are invited to enjoy free entrance to the upcoming exhibition Tim Shaw: Beyond Reason on October 25\, 2018 until 6:00 p.m. British sculptor Shaw creates psychologically charged environments that address humanitarian issues. Designed to unsettle and provoke thought\, his work raises questions about difficult and controversial topics such as global terrorism\, freedom of speech\, and the future of artificial intelligence. \n 
URL:https://www.sdmart.org/event/a-conversation-with-nick-cave/
LOCATION:James S. Copley Auditorium\, 1450 El Prado\, San Diego\, CA\, 92101\, United States
CATEGORIES:Artist Talk,Lecture-old
ATTACH;FMTTYPE=image/jpeg:https://www.sdmart.org/wp-content/uploads/2018/06/sam-nickcave-soundsuit-birds_0_enlarged.jpg
END:VEVENT
END:VCALENDAR