BEGIN:VCALENDAR
VERSION:2.0
PRODID:-//San Diego Museum of Art - ECPv6.7.0//NONSGML v1.0//EN
CALSCALE:GREGORIAN
METHOD:PUBLISH
X-WR-CALNAME:San Diego Museum of Art
X-ORIGINAL-URL:https://www.sdmart.org
X-WR-CALDESC:Events for San Diego Museum of Art
REFRESH-INTERVAL;VALUE=DURATION:PT1H
X-Robots-Tag:noindex
X-PUBLISHED-TTL:PT1H
BEGIN:VTIMEZONE
TZID:America/Los_Angeles
BEGIN:DAYLIGHT
TZOFFSETFROM:-0800
TZOFFSETTO:-0700
TZNAME:PDT
DTSTART:20180311T100000
END:DAYLIGHT
BEGIN:STANDARD
TZOFFSETFROM:-0700
TZOFFSETTO:-0800
TZNAME:PST
DTSTART:20181104T090000
END:STANDARD
END:VTIMEZONE
BEGIN:VEVENT
DTSTART;TZID=America/Los_Angeles:20181026T180000
DTEND;TZID=America/Los_Angeles:20181026T190000
DTSTAMP:20260423T033404
CREATED:20180828T232901Z
LAST-MODIFIED:20181023T201653Z
UID:9859-1540576800-1540580400@www.sdmart.org
SUMMARY:Spooky ArtStops
DESCRIPTION:Friday\, October 26\n6:00 p.m. & 7:00 p.m.\nMeet in the Lower Rotunda \nGet into the Halloween spirit with this special collaboration with the San Diego Shakespeare Society! Tour some of the most ghoulish and ghastly pieces in the Museum’s collection while enjoying performances of spooky passages from Shakespeare and Edgar Allan Poe. Tours meet in the first floor rotunda. \nFree after Museum admission. \nFeatured: Diego Rivera\, Mandrágora\, 1939.Oil on canvas. Gift of Mrs. Irving T. Snyder. 1967.159
URL:https://www.sdmart.org/event/spooky-artstops/
LOCATION:The San Diego Museum of Art\, 1450 El Prado\, San Diego\, CA\, 92102\, United States
CATEGORIES:Art After Hours,Tours
ATTACH;FMTTYPE=image/jpeg:https://www.sdmart.org/wp-content/uploads/2018/08/1967.159_crop.jpg
GEO:32.732119;-117.1504179
X-APPLE-STRUCTURED-LOCATION;VALUE=URI;X-ADDRESS=The San Diego Museum of Art 1450 El Prado San Diego CA 92102 United States;X-APPLE-RADIUS=500;X-TITLE=1450 El Prado:geo:-117.1504179,32.732119
END:VEVENT
END:VCALENDAR