BEGIN:VCALENDAR
VERSION:2.0
PRODID:-//San Diego Museum of Art - ECPv6.7.0//NONSGML v1.0//EN
CALSCALE:GREGORIAN
METHOD:PUBLISH
X-WR-CALNAME:San Diego Museum of Art
X-ORIGINAL-URL:https://www.sdmart.org
X-WR-CALDESC:Events for San Diego Museum of Art
REFRESH-INTERVAL;VALUE=DURATION:PT1H
X-Robots-Tag:noindex
X-PUBLISHED-TTL:PT1H
BEGIN:VTIMEZONE
TZID:America/Los_Angeles
BEGIN:DAYLIGHT
TZOFFSETFROM:-0800
TZOFFSETTO:-0700
TZNAME:PDT
DTSTART:20180311T100000
END:DAYLIGHT
BEGIN:STANDARD
TZOFFSETFROM:-0700
TZOFFSETTO:-0800
TZNAME:PST
DTSTART:20181104T090000
END:STANDARD
END:VTIMEZONE
BEGIN:VEVENT
DTSTART;TZID=America/Los_Angeles:20181108T180000
DTEND;TZID=America/Los_Angeles:20181108T200000
DTSTAMP:20260425T115830
CREATED:20181011T231749Z
LAST-MODIFIED:20181011T234229Z
UID:10489-1541700000-1541707200@www.sdmart.org
SUMMARY:Art & Craft Beer
DESCRIPTION:Cost: Complimentary as a benefit of Gallery Collective membership \n \n\n\n\n\n\n\n\n\n\n\n\n\n\n\n\n  \nGallery Collective members are invited to join us for a brewery tour of the Modern Times Lomaland Fermentorium. Following the tour\, we will have the opportunity to chat with the Modern Times Art Team\, all while sampling a delicious beer. After the event concludes\, guests are welcome to stay and enjoy more beer. \nEvent Schedule:\n6:00 – 6:45pm – Brewery Tour\n6:45 – 8:00pm – Modern Times Art Team Mixer and Beer Tasting \nLimited capacity.\nGallery Collective members may bring one guest.\nRSVP required by November 1. Email rsvp@sdmart.org.
URL:https://www.sdmart.org/event/art-craft-beer/
LOCATION:Modern Times Beer\, 3725 Greenwood St\,\, San Diego\, CA\, 92110\, United States
ATTACH;FMTTYPE=image/jpeg:https://www.sdmart.org/wp-content/uploads/2018/10/Fermentorium-e1539299347429.jpg
GEO:32.7542044;-117.2061981
X-APPLE-STRUCTURED-LOCATION;VALUE=URI;X-ADDRESS=Modern Times Beer 3725 Greenwood St San Diego CA 92110 United States;X-APPLE-RADIUS=500;X-TITLE=3725 Greenwood St\,:geo:-117.2061981,32.7542044
END:VEVENT
END:VCALENDAR