BEGIN:VCALENDAR
VERSION:2.0
PRODID:-//San Diego Museum of Art - ECPv6.7.0//NONSGML v1.0//EN
CALSCALE:GREGORIAN
METHOD:PUBLISH
X-ORIGINAL-URL:https://www.sdmart.org
X-WR-CALDESC:Events for San Diego Museum of Art
REFRESH-INTERVAL;VALUE=DURATION:PT1H
X-Robots-Tag:noindex
X-PUBLISHED-TTL:PT1H
BEGIN:VTIMEZONE
TZID:America/Los_Angeles
BEGIN:DAYLIGHT
TZOFFSETFROM:-0800
TZOFFSETTO:-0700
TZNAME:PDT
DTSTART:20180311T100000
END:DAYLIGHT
BEGIN:STANDARD
TZOFFSETFROM:-0700
TZOFFSETTO:-0800
TZNAME:PST
DTSTART:20181104T090000
END:STANDARD
END:VTIMEZONE
BEGIN:VEVENT
DTSTART;TZID=America/Los_Angeles:20181110T100000
DTEND;TZID=America/Los_Angeles:20181110T120000
DTSTAMP:20260421T075407
CREATED:20180913T191134Z
LAST-MODIFIED:20180913T191134Z
UID:10127-1541844000-1541851200@www.sdmart.org
SUMMARY:Art of Reading Book Club
DESCRIPTION:Saturday\, November 10\n10:00 a.m.\nMuseum Boardroom \nCome enjoy coffee and join in on an illuminating conversation with fellow Museum members about Empress: The Astonishing Reign of Nur Jahan by Ruby Lal. Then take a docent tour of related works of art. \nSpace is limited. Please RSVP at 619.696.1941 \nFree for members | $15 nonmembers
URL:https://www.sdmart.org/event/art-of-reading-book-club-3/
LOCATION:Museum Boardroom
CATEGORIES:Book Club,Member Event
END:VEVENT
BEGIN:VEVENT
DTSTART;TZID=America/Los_Angeles:20181110T140000
DTEND;TZID=America/Los_Angeles:20181110T160000
DTSTAMP:20260421T075407
CREATED:20180913T195625Z
LAST-MODIFIED:20180913T195625Z
UID:10160-1541858400-1541865600@www.sdmart.org
SUMMARY:AEC Salon
DESCRIPTION:Saturday\, November 10\n2:00–4:00 p.m.\nPrivate residence in Point Loma \nThis event features a visit with the owners of a Point Loma home designed by noted architect Sim Bruce Richards. This 1957 home exemplifies Richards’s unique palette of materials\, and hosts a\ncollection of Post-World War II art\, craft\, and design including works by John Baldessari and other renowned local artists. \n$50 per person \nContact Pat Stromberg at 619.697.3476 or pstromby@cox.net for reservations \nSponsored by the Arts Education Council
URL:https://www.sdmart.org/event/aec-salon/
CATEGORIES:Support Council
END:VEVENT
BEGIN:VEVENT
DTSTART;TZID=America/Los_Angeles:20181110T140000
DTEND;TZID=America/Los_Angeles:20181110T170000
DTSTAMP:20260421T075407
CREATED:20181010T220710Z
LAST-MODIFIED:20181015T173642Z
UID:10479-1541858400-1541869200@www.sdmart.org
SUMMARY:Victoria & Abdul - Film Screening
DESCRIPTION:Saturday\, November 10\n2:00–5:00 p.m.\nMuseum Boardroom \nEnjoy a screening of the film Victoria & Abdul (2017) with a presentation by Joaquin Ortiz\, Director of Innovation at MOPA\, on the concept of suture in film making. It’s 1887\, and Queen Victoria (Judy Dench) is having her golden jubilee. Abdul Karim (Ali Fazal) arrives from India to serve at the event… The rest is history! \nVictoria & Abdul was nominated for 13 awards including 2 Oscars in 2018. \nThis event is FREE and open to SDMA members only. \nSponsored by the South Asian Art Council (SAAC)
URL:https://www.sdmart.org/event/victoria-abdul-film-screening/
LOCATION:Museum Boardroom
CATEGORIES:Film,Member Event,Support Council
ATTACH;FMTTYPE=image/jpeg:https://www.sdmart.org/wp-content/uploads/2018/10/victoria-and-abdul.jpg
END:VEVENT
END:VCALENDAR