BEGIN:VCALENDAR
VERSION:2.0
PRODID:-//San Diego Museum of Art - ECPv6.7.0//NONSGML v1.0//EN
CALSCALE:GREGORIAN
METHOD:PUBLISH
X-ORIGINAL-URL:https://www.sdmart.org
X-WR-CALDESC:Events for San Diego Museum of Art
REFRESH-INTERVAL;VALUE=DURATION:PT1H
X-Robots-Tag:noindex
X-PUBLISHED-TTL:PT1H
BEGIN:VTIMEZONE
TZID:America/Los_Angeles
BEGIN:DAYLIGHT
TZOFFSETFROM:-0800
TZOFFSETTO:-0700
TZNAME:PDT
DTSTART:20190310T100000
END:DAYLIGHT
BEGIN:STANDARD
TZOFFSETFROM:-0700
TZOFFSETTO:-0800
TZNAME:PST
DTSTART:20191103T090000
END:STANDARD
END:VTIMEZONE
BEGIN:VEVENT
DTSTART;TZID=America/Los_Angeles:20190425T130000
DTEND;TZID=America/Los_Angeles:20190425T150000
DTSTAMP:20260422T145422
CREATED:20190123T210422Z
LAST-MODIFIED:20190123T210447Z
UID:12488-1556197200-1556204400@www.sdmart.org
SUMMARY:Stuffed Buddhas
DESCRIPTION:Thursday\, April 25\n1:00–3:00 p.m.\nMuseum Boardroom \nWhat do we see when we look at works of Buddhist sculpture? Do we focus only on the exterior appearance? There are indeed hidden\, interior worlds to Buddhist statues\, reliquaries of visible\nand non-visible things. Presenter Gregory Levine\, Ph.D.\, is Professor of Art and Architecture of Japan and Buddhist Visual Cultures at UC Berkeley. \nFree for AAC members | $10 Museum members | $12 nonmembers | $8 students \nSponsored by the Asian Arts Council
URL:https://www.sdmart.org/event/stuffed-buddhas/
LOCATION:Museum Boardroom
CATEGORIES:Lecture-old,Support Council
ATTACH;FMTTYPE=image/jpeg:https://www.sdmart.org/wp-content/uploads/2019/01/AAC_six_edit.jpg
END:VEVENT
BEGIN:VEVENT
DTSTART;TZID=America/Los_Angeles:20190425T173000
DTEND;TZID=America/Los_Angeles:20190425T200000
DTSTAMP:20260422T145422
CREATED:20180913T202310Z
LAST-MODIFIED:20190417T011037Z
UID:10189-1556213400-1556222400@www.sdmart.org
SUMMARY:Teen Art Café: Young Art 2019
DESCRIPTION:Thursday\, April 25\n5:30–8:00 p.m.\nJames S. Copley Auditorium \nMeet and mingle with fellow teen artists as you learn about works on view. Participate in art projects led by Museum educators and artists\, enjoy special performances\, and go on an exclusive afterhours tour through the Museum. Light refreshments and opportunities to win prizes are available. Topics and activities are different each event. \nTo RSVP\, email your full name and the name of your school to teenartcafe@sdmart.org. \nFree for teens
URL:https://www.sdmart.org/event/teen-art-cafe-young-art-2019/
LOCATION:James S. Copley Auditorium\, 1450 El Prado\, San Diego\, CA\, 92101\, United States
CATEGORIES:Families,Teens
ATTACH;FMTTYPE=image/jpeg:https://www.sdmart.org/wp-content/uploads/2018/09/R-TAC-display.jpg
END:VEVENT
END:VCALENDAR