BEGIN:VCALENDAR
VERSION:2.0
PRODID:-//San Diego Museum of Art - ECPv6.7.0//NONSGML v1.0//EN
CALSCALE:GREGORIAN
METHOD:PUBLISH
X-WR-CALNAME:San Diego Museum of Art
X-ORIGINAL-URL:https://www.sdmart.org
X-WR-CALDESC:Events for San Diego Museum of Art
REFRESH-INTERVAL;VALUE=DURATION:PT1H
X-Robots-Tag:noindex
X-PUBLISHED-TTL:PT1H
BEGIN:VTIMEZONE
TZID:America/Los_Angeles
BEGIN:DAYLIGHT
TZOFFSETFROM:-0800
TZOFFSETTO:-0700
TZNAME:PDT
DTSTART:20190310T100000
END:DAYLIGHT
BEGIN:STANDARD
TZOFFSETFROM:-0700
TZOFFSETTO:-0800
TZNAME:PST
DTSTART:20191103T090000
END:STANDARD
END:VTIMEZONE
BEGIN:VEVENT
DTSTART;TZID=America/Los_Angeles:20190527T100000
DTEND;TZID=America/Los_Angeles:20190527T170000
DTSTAMP:20260424T011838
CREATED:20190123T232307Z
LAST-MODIFIED:20190521T185208Z
UID:12522-1558951200-1558976400@www.sdmart.org
SUMMARY:Memorial Day Book Sale
DESCRIPTION:Monday\, May 27\n10:00 a.m.–5:00 p.m. \nJoin us at the Museum Store and Bibliotique for this one day sale! Take 25% off all books in stock!\nPlease note: no additional discounts apply. \nThis sale excludes the Museum’s publication for Art and Empire: The Golden Age of Spain.
URL:https://www.sdmart.org/event/memorial-day-book-sale/
LOCATION:The Museum Store\, 1450 El Prado\, San Diego\, CA\, 92101\, United States
CATEGORIES:Museum Store
ATTACH;FMTTYPE=image/jpeg:https://www.sdmart.org/wp-content/uploads/2019/01/Capture.jpg
GEO:32.732119;-117.1504179
X-APPLE-STRUCTURED-LOCATION;VALUE=URI;X-ADDRESS=The Museum Store 1450 El Prado San Diego CA 92101 United States;X-APPLE-RADIUS=500;X-TITLE=1450 El Prado:geo:-117.1504179,32.732119
END:VEVENT
END:VCALENDAR