BEGIN:VCALENDAR
VERSION:2.0
PRODID:-//San Diego Museum of Art - ECPv6.7.0//NONSGML v1.0//EN
CALSCALE:GREGORIAN
METHOD:PUBLISH
X-WR-CALNAME:San Diego Museum of Art
X-ORIGINAL-URL:https://www.sdmart.org
X-WR-CALDESC:Events for San Diego Museum of Art
REFRESH-INTERVAL;VALUE=DURATION:PT1H
X-Robots-Tag:noindex
X-PUBLISHED-TTL:PT1H
BEGIN:VTIMEZONE
TZID:America/Los_Angeles
BEGIN:DAYLIGHT
TZOFFSETFROM:-0800
TZOFFSETTO:-0700
TZNAME:PDT
DTSTART:20190310T100000
END:DAYLIGHT
BEGIN:STANDARD
TZOFFSETFROM:-0700
TZOFFSETTO:-0800
TZNAME:PST
DTSTART:20191103T090000
END:STANDARD
END:VTIMEZONE
BEGIN:VEVENT
DTSTART;TZID=America/Los_Angeles:20190602T130000
DTEND;TZID=America/Los_Angeles:20190602T150000
DTSTAMP:20260420T084727
CREATED:20190511T020659Z
LAST-MODIFIED:20190511T020722Z
UID:14091-1559480400-1559487600@www.sdmart.org
SUMMARY:Family Drop-In Day: All Mixed Up! - Exploring Art Materials
DESCRIPTION:Sunday\, June 2\n1:00–3:00 p.m.\nLower rotunda / Select galleries \nExplore and learn more about the art in the galleries through activities designed for families to enjoy together. Themes and projects change each month. Recommended for families with children ages 6–12. Children must be accompanied by an adult. \nFree with Museum admission.
URL:https://www.sdmart.org/event/family-drop-in-day-all-mixed-up-exploring-art-materials/
LOCATION:The San Diego Museum of Art\, 1450 El Prado\, San Diego\, CA\, 92102\, United States
CATEGORIES:Families
GEO:32.732119;-117.1504179
X-APPLE-STRUCTURED-LOCATION;VALUE=URI;X-ADDRESS=The San Diego Museum of Art 1450 El Prado San Diego CA 92102 United States;X-APPLE-RADIUS=500;X-TITLE=1450 El Prado:geo:-117.1504179,32.732119
END:VEVENT
BEGIN:VEVENT
DTSTART;TZID=America/Los_Angeles:20190602T160000
DTEND;TZID=America/Los_Angeles:20190602T190000
DTSTAMP:20260420T084727
CREATED:20190402T204744Z
LAST-MODIFIED:20190402T204841Z
UID:13552-1559491200-1559502000@www.sdmart.org
SUMMARY:"Year-End" Cocktail Party & Auction
DESCRIPTION:Sunday\, June 2\n4:00–7:00 p.m. \nThis party and auction is being held at a fabulous Pt. Loma residence named Katsura recently highlighted in San Diego Home/Garden magazine. The house was designed by Russell Forester and commissioned by Robert O. Peterson\, founder of Jack in the Box and an avid Japanophile. \nLimited to 75 guests. Valet parking \n$75 CAC members | $85 SDMA members | $90 nonmembers \nContact Robin J. Lipman for tickets and info at tomayto@aol.com or 858-794-7968 \nSponsored by the Contemporary Arts Committee
URL:https://www.sdmart.org/event/year-end-cocktail-party-auction/
CATEGORIES:Support Council
ATTACH;FMTTYPE=image/jpeg:https://www.sdmart.org/wp-content/uploads/2019/04/PastedGraphic-1-6.jpg
END:VEVENT
END:VCALENDAR