BEGIN:VCALENDAR
VERSION:2.0
PRODID:-//San Diego Museum of Art - ECPv6.7.0//NONSGML v1.0//EN
CALSCALE:GREGORIAN
METHOD:PUBLISH
X-WR-CALNAME:San Diego Museum of Art
X-ORIGINAL-URL:https://www.sdmart.org
X-WR-CALDESC:Events for San Diego Museum of Art
REFRESH-INTERVAL;VALUE=DURATION:PT1H
X-Robots-Tag:noindex
X-PUBLISHED-TTL:PT1H
BEGIN:VTIMEZONE
TZID:America/Los_Angeles
BEGIN:DAYLIGHT
TZOFFSETFROM:-0800
TZOFFSETTO:-0700
TZNAME:PDT
DTSTART:20190310T100000
END:DAYLIGHT
BEGIN:STANDARD
TZOFFSETFROM:-0700
TZOFFSETTO:-0800
TZNAME:PST
DTSTART:20191103T090000
END:STANDARD
END:VTIMEZONE
BEGIN:VEVENT
DTSTART;TZID=America/Los_Angeles:20190722T090000
DTEND;TZID=America/Los_Angeles:20190722T160000
DTSTAMP:20260423T190019
CREATED:20190227T201512Z
LAST-MODIFIED:20190611T215825Z
UID:12845-1563786000-1563811200@www.sdmart.org
SUMMARY:Splash\, Swish\, Swirl!: An Art Exploration (Grades 1–2)
DESCRIPTION:Museum Art School\nMonday–Friday\n9:00 a.m.–4:00 p.m.\nGrades 1–2 \n\nExplore the elements of art through a variety of multimedia projects inspired by works on view at the Museum. From the Art of the 20th Century galleries to outdoor sculpture\, learn about master artists and play art games. \nSummer Camps are led by artists and expert art educators and include multiple projects and visits to the Museum to view summer exhibitions. \nProgram Fees\n$275 members | $315 nonmembers \nClick on our Summer Youth Programs page to learn more
URL:https://www.sdmart.org/event/splash-swish-swirl-an-art-exploration-grades-1-2/
LOCATION:Museum Art School
CATEGORIES:Summer Program
END:VEVENT
BEGIN:VEVENT
DTSTART;TZID=America/Los_Angeles:20190722T090000
DTEND;TZID=America/Los_Angeles:20190722T160000
DTSTAMP:20260423T190019
CREATED:20190227T201705Z
LAST-MODIFIED:20190531T164519Z
UID:12848-1563786000-1563811200@www.sdmart.org
SUMMARY:Build It\, Shape It\, Sculpt It!: Exploring 3-D Art (Grades 3–5) (SOLD OUT)
DESCRIPTION:Museum Art School\nMonday–Friday\n9:00 a.m.–4:00 p.m.\nGrades 3–5 \nSOLD OUT\nCreate sculptural works of art with materials such as clay\, wood\, wire\, and recyclable materials while exploring volume and scale in works on view at the Museum\, including the May S. Marcy Sculpture Garden and the Art of the Open Air installation. \nSummer Camps are led by artists and expert art educators and include multiple projects and visits to the Museum to view summer exhibitions. \nProgram Fees\n$275 members | $315 nonmembers \nClick on our Summer Youth Programs page to learn more
URL:https://www.sdmart.org/event/build-it-shape-it-sculpt-it-exploring-3-d-art-grades-3-5/
LOCATION:Museum Art School
CATEGORIES:Summer Program
END:VEVENT
END:VCALENDAR