BEGIN:VCALENDAR
VERSION:2.0
PRODID:-//San Diego Museum of Art - ECPv6.7.0//NONSGML v1.0//EN
CALSCALE:GREGORIAN
METHOD:PUBLISH
X-ORIGINAL-URL:https://www.sdmart.org
X-WR-CALDESC:Events for San Diego Museum of Art
REFRESH-INTERVAL;VALUE=DURATION:PT1H
X-Robots-Tag:noindex
X-PUBLISHED-TTL:PT1H
BEGIN:VTIMEZONE
TZID:America/Los_Angeles
BEGIN:DAYLIGHT
TZOFFSETFROM:-0800
TZOFFSETTO:-0700
TZNAME:PDT
DTSTART:20190310T100000
END:DAYLIGHT
BEGIN:STANDARD
TZOFFSETFROM:-0700
TZOFFSETTO:-0800
TZNAME:PST
DTSTART:20191103T090000
END:STANDARD
END:VTIMEZONE
BEGIN:VEVENT
DTSTART;TZID=America/Los_Angeles:20191004T100000
DTEND;TZID=America/Los_Angeles:20191004T113000
DTSTAMP:20260421T215745
CREATED:20190916T232221Z
LAST-MODIFIED:20190916T232221Z
UID:15506-1570183200-1570188600@www.sdmart.org
SUMMARY:Circle Insider Views
DESCRIPTION:Friday\, October 4\n10:00–11:30 a.m.\nRotunda \nConversation: Black Life Exhibition \nWe invite Circle members to join us for a conversation about the exhibition Black Life: Images of Resistance and Resilience in Southern California. The discussion will focus on the Museum’s partnership with the San Diego African American Museum of Fine Arts and California State University\, Northridge\, and the process of bringing this exhibition to the public. \nParticipants include Gaidi Finnie\, exhibition co-curator and Board Chair of the San Diego African American Museum of Fine Arts\, Denise Rogers\, Ph.D.\, consulting scholar and Professor of Art History at San Diego Mesa College\, and Johanna Benson\, Education Manager at The San Diego Museum of Art. Following the conversation\, Dr. Rogers will lead a tour of the gallery and highlight some of the works on view. \nThis event is exclusive to Circle members. Please RSVP to rsvp@sdmart.org.
URL:https://www.sdmart.org/event/circle-insider-views/
LOCATION:The San Diego Museum of Art\, 1450 El Prado\, San Diego\, CA\, 92102\, United States
CATEGORIES:Member Event
ATTACH;FMTTYPE=image/jpeg:https://www.sdmart.org/wp-content/uploads/2019/06/91.01.GC_.P.B1.28_2000px.jpg
GEO:32.732119;-117.1504179
X-APPLE-STRUCTURED-LOCATION;VALUE=URI;X-ADDRESS=The San Diego Museum of Art 1450 El Prado San Diego CA 92102 United States;X-APPLE-RADIUS=500;X-TITLE=1450 El Prado:geo:-117.1504179,32.732119
END:VEVENT
BEGIN:VEVENT
DTSTART;TZID=America/Los_Angeles:20191004T200000
DTEND;TZID=America/Los_Angeles:20191004T220000
DTSTAMP:20260421T215745
CREATED:20190826T235108Z
LAST-MODIFIED:20190920T213708Z
UID:15125-1570219200-1570226400@www.sdmart.org
SUMMARY:Film Screening: Hockney
DESCRIPTION:Friday\, October 4\n8:00 p.m.\nJames S. Copley Auditorium \nComplementing the Museum’s installation of David Hockney’s The Valley (Mountains in Var\, near La Garde Freinet)*\, Hockney presents a fascinating dive into the life\, loves\, and career of one of the world’s most celebrated contemporary artists. From his early beginnings in working-class West Yorkshire to the glitz and glamour of Hollywood in the 1960s and 70s\, Hockney has consistently defied the labels—“pop art\,” “queer art\,” “figurative art\,”—imposed upon him and has created a remarkable body of work spanning painting\, photographic collage\, and even theater and set design. Hockney utilizes interviews\, personal photographs\, and home movies to offer a deeply personal look at the artist’s remarkable life. 2014\, Not Rated\, 112 min. Please note this film contains strong language and nudity. \n*? UPDATE Due to unforeseen circumstances\, David Hockney’s The Valley (Mountains in Var\, near La Garde Freinet) is now on view through September 24 only\, and will no longer be on display through October 28 as originally advertised. Ticket holders can show their film screening tickets for Hockney now through September 24\, 2019 for free admission into the Museum to see the painting before it leaves our galleries. \nShow your film screening ticket for free same-day Museum admission during Art After Hours from 5:00–8:00 p.m. \n$5 members and students | $7.50 seniors and military | $10 nonmembers
URL:https://www.sdmart.org/event/film-screening-hockney/
LOCATION:James S. Copley Auditorium\, 1450 El Prado\, San Diego\, CA\, 92101\, United States
CATEGORIES:Film
ATTACH;FMTTYPE=image/jpeg:https://www.sdmart.org/wp-content/uploads/2019/08/Hockney.jpg
END:VEVENT
END:VCALENDAR