BEGIN:VCALENDAR
VERSION:2.0
PRODID:-//San Diego Museum of Art - ECPv6.7.0//NONSGML v1.0//EN
CALSCALE:GREGORIAN
METHOD:PUBLISH
X-WR-CALNAME:San Diego Museum of Art
X-ORIGINAL-URL:https://www.sdmart.org
X-WR-CALDESC:Events for San Diego Museum of Art
REFRESH-INTERVAL;VALUE=DURATION:PT1H
X-Robots-Tag:noindex
X-PUBLISHED-TTL:PT1H
BEGIN:VTIMEZONE
TZID:America/Los_Angeles
BEGIN:DAYLIGHT
TZOFFSETFROM:-0800
TZOFFSETTO:-0700
TZNAME:PDT
DTSTART:20190310T100000
END:DAYLIGHT
BEGIN:STANDARD
TZOFFSETFROM:-0700
TZOFFSETTO:-0800
TZNAME:PST
DTSTART:20191103T090000
END:STANDARD
END:VTIMEZONE
BEGIN:VEVENT
DTSTART;TZID=America/Los_Angeles:20191012T103000
DTEND;TZID=America/Los_Angeles:20191012T130000
DTSTAMP:20260424T011855
CREATED:20190904T165800Z
LAST-MODIFIED:20190904T171323Z
UID:15371-1570876200-1570885200@www.sdmart.org
SUMMARY:Film Screening: Viceroy's House
DESCRIPTION:Saturday\, October 12\n10:30 a.m.–1:00 p.m.\nMuseum Boardroom \nFree admission limited to Museum members and their guests. RSVP through the ticketing link below. \nViceroy’s House\, from director/producer Gurinder Chadha and starring Hugh Bonneville and Gillian Anderson\, brings to life with vivid details the conflicts and emotions during the partition of India\, when the British Raj was dissolved and the independent Indian nation was established. 2017\, Not Rated\, 107 min. \nSponsored by the South Asian Arts Council (SAAC)
URL:https://www.sdmart.org/event/film-screening-viceroys-house/
LOCATION:Museum Boardroom
CATEGORIES:Film,Member Event,Support Council
ATTACH;FMTTYPE=image/jpeg:https://www.sdmart.org/wp-content/uploads/2019/09/p07lfv78.jpg
END:VEVENT
END:VCALENDAR