BEGIN:VCALENDAR
VERSION:2.0
PRODID:-//San Diego Museum of Art - ECPv6.7.0//NONSGML v1.0//EN
CALSCALE:GREGORIAN
METHOD:PUBLISH
X-WR-CALNAME:San Diego Museum of Art
X-ORIGINAL-URL:https://www.sdmart.org
X-WR-CALDESC:Events for San Diego Museum of Art
REFRESH-INTERVAL;VALUE=DURATION:PT1H
X-Robots-Tag:noindex
X-PUBLISHED-TTL:PT1H
BEGIN:VTIMEZONE
TZID:America/Los_Angeles
BEGIN:DAYLIGHT
TZOFFSETFROM:-0800
TZOFFSETTO:-0700
TZNAME:PDT
DTSTART:20190310T100000
END:DAYLIGHT
BEGIN:STANDARD
TZOFFSETFROM:-0700
TZOFFSETTO:-0800
TZNAME:PST
DTSTART:20191103T090000
END:STANDARD
END:VTIMEZONE
BEGIN:VEVENT
DTSTART;TZID=America/Los_Angeles:20191015T120000
DTEND;TZID=America/Los_Angeles:20191015T123000
DTSTAMP:20260421T220426
CREATED:20190923T233756Z
LAST-MODIFIED:20190923T233756Z
UID:15683-1571140800-1571142600@www.sdmart.org
SUMMARY:ArtStop: Abstract Revolution
DESCRIPTION:Tuesday\, October 15\nnoon \nFree after Museum admission. Join us on the third Tuesday of each month during Residents’ Free Tuesday for an ArtStop. Led by Museum curators and educators\, these enlightening and informative 15-minute tours focus on one to three works on view in the galleries. Tours meet at noon in the first-floor rotunda.
URL:https://www.sdmart.org/event/artstop-abstract-revolution/
LOCATION:The San Diego Museum of Art\, 1450 El Prado\, San Diego\, CA\, 92102\, United States
CATEGORIES:Tours
GEO:32.732119;-117.1504179
X-APPLE-STRUCTURED-LOCATION;VALUE=URI;X-ADDRESS=The San Diego Museum of Art 1450 El Prado San Diego CA 92102 United States;X-APPLE-RADIUS=500;X-TITLE=1450 El Prado:geo:-117.1504179,32.732119
END:VEVENT
END:VCALENDAR