BEGIN:VCALENDAR
VERSION:2.0
PRODID:-//San Diego Museum of Art - ECPv6.7.0//NONSGML v1.0//EN
CALSCALE:GREGORIAN
METHOD:PUBLISH
X-ORIGINAL-URL:https://www.sdmart.org
X-WR-CALDESC:Events for San Diego Museum of Art
REFRESH-INTERVAL;VALUE=DURATION:PT1H
X-Robots-Tag:noindex
X-PUBLISHED-TTL:PT1H
BEGIN:VTIMEZONE
TZID:America/Los_Angeles
BEGIN:DAYLIGHT
TZOFFSETFROM:-0800
TZOFFSETTO:-0700
TZNAME:PDT
DTSTART:20210314T100000
END:DAYLIGHT
BEGIN:STANDARD
TZOFFSETFROM:-0700
TZOFFSETTO:-0800
TZNAME:PST
DTSTART:20211107T090000
END:STANDARD
END:VTIMEZONE
BEGIN:VEVENT
DTSTART;TZID=America/Los_Angeles:20210628T110000
DTEND;TZID=America/Los_Angeles:20210628T120000
DTSTAMP:20260425T091312
CREATED:20210525T164702Z
LAST-MODIFIED:20210525T164903Z
UID:26652-1624878000-1624881600@www.sdmart.org
SUMMARY:Virtual Tour: Art and Anxiety: German Expressionism
DESCRIPTION:Monday\, June 28\n11:00 a.m.–noon PT \n  \nThe first part of the 20th century brought uncertainty\, anxiety\, and the Great War to Europe.  Artists responded with colorful and often explosive expressions of the feelings\, worries\, and ideas of their generation. This tour explores their art and how it reflects the struggles and concerns of their times. \nPlease reserve your spot by clicking on this link. All participants will be sent the Zoom link and instructions via email once you secure your place. Space is limited. \nReserve my spot! \n\nHosted by The San Diego Museum of Art Docent Council. \nFeatured: Otto Dix. Rising Moon. Gouache on paper. Gift from the Estate of Vance E. Kondon and Liesbeth Giesberger. 2011.91.
URL:https://www.sdmart.org/event/virtual-tour-art-and-anxiety-german-expressionism-june-28-2021/
CATEGORIES:Tours
ATTACH;FMTTYPE=image/jpeg:https://www.sdmart.org/wp-content/uploads/2021/03/Rising-Moon-2011-91.jpg
END:VEVENT
END:VCALENDAR