BEGIN:VCALENDAR
VERSION:2.0
PRODID:-//San Diego Museum of Art - ECPv6.7.0//NONSGML v1.0//EN
CALSCALE:GREGORIAN
METHOD:PUBLISH
X-ORIGINAL-URL:https://www.sdmart.org
X-WR-CALDESC:Events for San Diego Museum of Art
REFRESH-INTERVAL;VALUE=DURATION:PT1H
X-Robots-Tag:noindex
X-PUBLISHED-TTL:PT1H
BEGIN:VTIMEZONE
TZID:America/Los_Angeles
BEGIN:DAYLIGHT
TZOFFSETFROM:-0800
TZOFFSETTO:-0700
TZNAME:PDT
DTSTART:20210314T100000
END:DAYLIGHT
BEGIN:STANDARD
TZOFFSETFROM:-0700
TZOFFSETTO:-0800
TZNAME:PST
DTSTART:20211107T090000
END:STANDARD
END:VTIMEZONE
BEGIN:VEVENT
DTSTART;TZID=America/Los_Angeles:20210728T130000
DTEND;TZID=America/Los_Angeles:20210728T140000
DTSTAMP:20260425T142021
CREATED:20210706T231324Z
LAST-MODIFIED:20210706T231843Z
UID:27709-1627477200-1627480800@www.sdmart.org
SUMMARY:Virtual Tour: Cranach to Canaletto: Masterpieces from the Bemberg Foundation
DESCRIPTION:Wednesday\, July 28\n1:00–2:00 p.m. PT \n  \nTour a selection of stunning Old Master paintings from the more than seventy-five works presented in Cranach to Canaletto: Masterpieces from the Bemberg Foundation.  These works\, exemplifying themes of portraiture\, landscape\, mythology\, and domestic environments\, reflect the unique personal taste of the connoisseur who assembled this remarkable private collection\, Georges Bemberg. \nPlease reserve your spot by clicking on this link. All participants will be sent the Zoom link and instructions via email once you secure your place. Space is limited. \nReserve my spot! \n\nHosted by The San Diego Museum of Art Docent Council. \nFeatured: Lucas Cranach. Portrait of Sibylle de Clève\, Elector of Saxe (detail)\, 1531. Oil on panel. Collection from the Fondation Bemberg. © Fondation Bemberg and RMN.
URL:https://www.sdmart.org/event/virtual-tour-cranach-to-canaletto-masterpieces-from-the-bemberg-collection-july-28/
CATEGORIES:Tours
ATTACH;FMTTYPE=image/jpeg:https://www.sdmart.org/wp-content/uploads/2021/04/Lucas-Cranach-Portrait-of-Sibylle-de-Cleve-Elector-of-Saxe-1531-Bemberg-Foundation-resize-SQUARE.jpg
END:VEVENT
END:VCALENDAR