BEGIN:VCALENDAR
VERSION:2.0
PRODID:-//San Diego Museum of Art - ECPv6.7.0//NONSGML v1.0//EN
CALSCALE:GREGORIAN
METHOD:PUBLISH
X-WR-CALNAME:San Diego Museum of Art
X-ORIGINAL-URL:https://www.sdmart.org
X-WR-CALDESC:Events for San Diego Museum of Art
REFRESH-INTERVAL;VALUE=DURATION:PT1H
X-Robots-Tag:noindex
X-PUBLISHED-TTL:PT1H
BEGIN:VTIMEZONE
TZID:America/Los_Angeles
BEGIN:DAYLIGHT
TZOFFSETFROM:-0800
TZOFFSETTO:-0700
TZNAME:PDT
DTSTART:20210314T100000
END:DAYLIGHT
BEGIN:STANDARD
TZOFFSETFROM:-0700
TZOFFSETTO:-0800
TZNAME:PST
DTSTART:20211107T090000
END:STANDARD
END:VTIMEZONE
BEGIN:VEVENT
DTSTART;TZID=America/Los_Angeles:20210828T100000
DTEND;TZID=America/Los_Angeles:20210828T120000
DTSTAMP:20260425T084936
CREATED:20210722T235405Z
LAST-MODIFIED:20210726T160734Z
UID:27863-1630144800-1630152000@www.sdmart.org
SUMMARY:Modern & Contemporary Art from India: The Roots of Modernism in India--From Indigenous to British (And Back)
DESCRIPTION:Saturday\, August 28\n10:00 a.m.–noon PT\nSpeaker: Betty Seid\, independent curator\, writer\, and lecturer \n  \nJoin the South Asian Arts Council for a four-part series on Modern & Contemporary Art from India. The first in the series shares The Roots of Modernism in India: From Indigenous to British (And Back). \n\nJust as European Modernism was a breaking away from the past\, so too was India’s a reaction to the art that preceded it. The 19th-century fertile ground against which modern India reacted was characterized by two major factors: indigenous art (commonly called “folk art”) and picturesque documentary works commissioned by the British (known as “Company School Paintings”). We will begin this series with an immersion into the visual milieu that influenced (in both positive and negative ways) Indian artists as they struggled to be both Indian and Modern. \n\nBetty Seid is an independent curator\, writer\, and lecturer. She was previously Research Associate and Exhibition Coordinator for South Asian Art in the Department of Asian Art of The Art Institute of Chicago. Her exhibition (and catalog) New Narratives: Contemporary Art from India was the first to show 21st-century Indian art in the United States. \n\n  \n\nPlease reserve your spot by clicking on this link. All participants will be sent the Zoom link and instructions via email once you secure your place. Space is limited. \nSave my spot! \nFree for active South Asian Arts Council (renewed for 2021-2022) and SDMA members | $5 for all others \n  \nSponsored by the South Asian Arts Council. \nFeatured: Patua painting. Untitled. n.d. | Attributed to Sheikh Muhammad Amir of Karraya. Cloth Seller. c. 1840
URL:https://www.sdmart.org/event/modern-contemporary-art-from-india-roots-of-modernism/
CATEGORIES:Lecture-old,Support Council
ATTACH;FMTTYPE=image/jpeg:https://www.sdmart.org/wp-content/uploads/2021/07/SAAC-August-2021-Patua-painting.-Untitled.-n.d.-attributed-to-Sheikh-Muhammad-Amir-of-Karraya.-Cloth-Seller.-c.-1840.jpg
END:VEVENT
BEGIN:VEVENT
DTSTART;TZID=America/Los_Angeles:20210828T160000
DTEND;TZID=America/Los_Angeles:20210828T160000
DTSTAMP:20260425T084936
CREATED:20210518T213740Z
LAST-MODIFIED:20210716T205656Z
UID:26499-1630166400-1630166400@www.sdmart.org
SUMMARY:SDMA+ Naruwan Taiko: In the Forced Vortex
DESCRIPTION:Saturday\, August 28\nMuseum steps \n  \nThe energetic rhythms and dynamic performance style of San Diego’s Naruwan Taiko provide an innovative interpretation of Ana de Alvear’s large-scale galaxy drawing In the Forced Vortex (White)\, on view as part of Everything You See Could Be a Lie: Photorealistic Drawings by Ana de Alvear. \nThe performance will take place on the steps in front of the Museum. \n  \nPerformance date and time are subject to change. \n  \nSDMA+ programs are offered by The San Diego Museum of Art in collaboration with other local arts institutions to create unique experiences and a deeper exploration of the art on view. \n  \nImage at top right courtesy of Naruwan Taiko.
URL:https://www.sdmart.org/event/sdma-naruwan-taiko-in-the-forced-vortex/
CATEGORIES:SDMA+
ATTACH;FMTTYPE=image/jpeg:https://www.sdmart.org/wp-content/uploads/2021/05/Naruwan-Taiko-stage-performance.jpg
END:VEVENT
END:VCALENDAR