BEGIN:VCALENDAR
VERSION:2.0
PRODID:-//San Diego Museum of Art - ECPv6.7.0//NONSGML v1.0//EN
CALSCALE:GREGORIAN
METHOD:PUBLISH
X-WR-CALNAME:San Diego Museum of Art
X-ORIGINAL-URL:https://www.sdmart.org
X-WR-CALDESC:Events for San Diego Museum of Art
REFRESH-INTERVAL;VALUE=DURATION:PT1H
X-Robots-Tag:noindex
X-PUBLISHED-TTL:PT1H
BEGIN:VTIMEZONE
TZID:America/Los_Angeles
BEGIN:DAYLIGHT
TZOFFSETFROM:-0800
TZOFFSETTO:-0700
TZNAME:PDT
DTSTART:20210314T100000
END:DAYLIGHT
BEGIN:STANDARD
TZOFFSETFROM:-0700
TZOFFSETTO:-0800
TZNAME:PST
DTSTART:20211107T090000
END:STANDARD
END:VTIMEZONE
BEGIN:VEVENT
DTSTART;TZID=America/Los_Angeles:20210902T130000
DTEND;TZID=America/Los_Angeles:20210902T140000
DTSTAMP:20260425T052858
CREATED:20210820T163103Z
LAST-MODIFIED:20210820T163324Z
UID:28186-1630587600-1630591200@www.sdmart.org
SUMMARY:Virtual Tour: What\, Another Still Life?
DESCRIPTION:Thursday\, September 2\n1:00 p.m. –2:00 p.m. PT \n  \nExamining works from the museum’s permanent collection\, this virtual tour will stimulate a fresh appreciation of the still life painting\, which emerged as an independent subject matter in the 16th century and grew to become one of the most versatile genres in art history. \nPlease reserve your spot by clicking on this link. All participants will be sent the Zoom link and instructions via email once you secure your place. Space is limited. \nReserve my spot! \n\nHosted by The San Diego Museum of Art Docent Council. \nFeatured: Honoré Desmond Sharrer. What\, Another Still-life?\, 1938. Watercolor. Gift of Mr. Paul Rosenberg. 1940.84.
URL:https://www.sdmart.org/event/virtual-tour-what-another-still-life-september-2-2021/
CATEGORIES:Tours
ATTACH;FMTTYPE=image/jpeg:https://www.sdmart.org/wp-content/uploads/2021/04/still-life-1940.84.jpg
END:VEVENT
END:VCALENDAR