BEGIN:VCALENDAR
VERSION:2.0
PRODID:-//San Diego Museum of Art - ECPv6.7.0//NONSGML v1.0//EN
CALSCALE:GREGORIAN
METHOD:PUBLISH
X-WR-CALNAME:San Diego Museum of Art
X-ORIGINAL-URL:https://www.sdmart.org
X-WR-CALDESC:Events for San Diego Museum of Art
REFRESH-INTERVAL;VALUE=DURATION:PT1H
X-Robots-Tag:noindex
X-PUBLISHED-TTL:PT1H
BEGIN:VTIMEZONE
TZID:America/Los_Angeles
BEGIN:DAYLIGHT
TZOFFSETFROM:-0800
TZOFFSETTO:-0700
TZNAME:PDT
DTSTART:20210314T100000
END:DAYLIGHT
BEGIN:STANDARD
TZOFFSETFROM:-0700
TZOFFSETTO:-0800
TZNAME:PST
DTSTART:20211107T090000
END:STANDARD
END:VTIMEZONE
BEGIN:VEVENT
DTSTART;TZID=America/Los_Angeles:20211006T100000
DTEND;TZID=America/Los_Angeles:20211006T110000
DTSTAMP:20260419T123305
CREATED:20210927T214626Z
LAST-MODIFIED:20210927T215456Z
UID:28537-1633514400-1633518000@www.sdmart.org
SUMMARY:Virtual Tour: Tibetan Thangka Paintings: Sacred Visions
DESCRIPTION:Wednesday\, October 6\n10:00 a.m.–11:00 a.m. PT \n  \nPerhaps you have admired and been puzzled by these detailed paintings that were created as part of the tantric Buddhism that is practiced in Tibet. Unravel their secrets as we decode the symbols together and learn how and why these portable paintings were made. \nPlease reserve your spot by clicking on this link. All participants will be sent the Zoom link and instructions via email once you secure your place. Space is limited. \nReserve my spot! \n\nHosted by The San Diego Museum of Art Docent Council. \nFeatured: Buddha\, the Supreme Healer\, ca. 15th century. Opaque watercolor on cotton. Edwin Binney 3rd Collection. 1990.1470.
URL:https://www.sdmart.org/event/virtual-tour-tibetan-thangka-paintings-oct-2021/
CATEGORIES:Tours
ATTACH;FMTTYPE=image/jpeg:https://www.sdmart.org/wp-content/uploads/2021/06/Buddha-the-Supreme-Healer-1990.1470-web-resize.jpg
END:VEVENT
END:VCALENDAR