BEGIN:VCALENDAR
VERSION:2.0
PRODID:-//San Diego Museum of Art - ECPv6.7.0//NONSGML v1.0//EN
CALSCALE:GREGORIAN
METHOD:PUBLISH
X-ORIGINAL-URL:https://www.sdmart.org
X-WR-CALDESC:Events for San Diego Museum of Art
REFRESH-INTERVAL;VALUE=DURATION:PT1H
X-Robots-Tag:noindex
X-PUBLISHED-TTL:PT1H
BEGIN:VTIMEZONE
TZID:America/Los_Angeles
BEGIN:DAYLIGHT
TZOFFSETFROM:-0800
TZOFFSETTO:-0700
TZNAME:PDT
DTSTART:20210314T100000
END:DAYLIGHT
BEGIN:STANDARD
TZOFFSETFROM:-0700
TZOFFSETTO:-0800
TZNAME:PST
DTSTART:20211107T090000
END:STANDARD
END:VTIMEZONE
BEGIN:VEVENT
DTSTART;TZID=America/Los_Angeles:20211018T140000
DTEND;TZID=America/Los_Angeles:20211018T150000
DTSTAMP:20260423T142944
CREATED:20210924T160024Z
LAST-MODIFIED:20210924T160228Z
UID:28528-1634565600-1634569200@www.sdmart.org
SUMMARY:Virtual Tour: Spiritual Art Around the World
DESCRIPTION:Monday\, October 18\n2:00 p.m.–3:00 p.m. PT \n  \nWhy are we here? How should we live? Is there life after death? See how cultures around the world address humankind’s universal questions through devotional or spiritual masterworks such as Renaissance and Baroque painting\, African masks\, Indian miniature painting\, and Asian sculpture. \nPlease reserve your spot by clicking on this link. All participants will be sent the Zoom link and instructions via email once you secure your place. Space is limited. \nReserve my spot! \n\nHosted by The San Diego Museum of Art Docent Council. \nFeatured: Quran Page (detail)\, ca. 1335. Opaque watercolor\, ink and gold on paper. Edwin Binney 3rd Collection. 1990.239.
URL:https://www.sdmart.org/event/virtual-tour-spiritual-art-around-the-world-october-2021/
CATEGORIES:Tours
ATTACH;FMTTYPE=image/jpeg:https://www.sdmart.org/wp-content/uploads/2020/11/Quran-Page-1990.239-resize-web-crop.jpg
END:VEVENT
END:VCALENDAR