BEGIN:VCALENDAR
VERSION:2.0
PRODID:-//San Diego Museum of Art - ECPv6.7.0//NONSGML v1.0//EN
CALSCALE:GREGORIAN
METHOD:PUBLISH
X-ORIGINAL-URL:https://www.sdmart.org
X-WR-CALDESC:Events for San Diego Museum of Art
REFRESH-INTERVAL;VALUE=DURATION:PT1H
X-Robots-Tag:noindex
X-PUBLISHED-TTL:PT1H
BEGIN:VTIMEZONE
TZID:America/Los_Angeles
BEGIN:DAYLIGHT
TZOFFSETFROM:-0800
TZOFFSETTO:-0700
TZNAME:PDT
DTSTART:20230312T100000
END:DAYLIGHT
BEGIN:STANDARD
TZOFFSETFROM:-0700
TZOFFSETTO:-0800
TZNAME:PST
DTSTART:20231105T090000
END:STANDARD
END:VTIMEZONE
BEGIN:VEVENT
DTSTART;TZID=America/Los_Angeles:20230517T110000
DTEND;TZID=America/Los_Angeles:20230517T120000
DTSTAMP:20260420T081120
CREATED:20230502T174008Z
LAST-MODIFIED:20230509T004123Z
UID:37034-1684321200-1684324800@www.sdmart.org
SUMMARY:Virtual Tour: O'Keeffe and Moore: Sheltering Inside and Out
DESCRIPTION:Wednesday\, May  17th \n11:00 a.m. – 12:00 p.m. PT \n  \nGeorgia O’Keeffe and Henry Moore were uncannily similar in their pursuit of natural forms: bones and stones\, shells; the unity of the female body with nature. They independently sought and were inspired by the organic roots of modern abstraction\, half a world away from each other. This tour will explore these artists’ works and the connection between the themes in which they were engaged\, comparing their working methods\, exploration of found objects\, and the juxtaposition of unlikely forms. \nPlease reserve your spot by clicking on this link. All participants will be sent the Zoom link and instructions via email once you secure your place. Space is limited. \nReserve my spot! \n\nHosted by The San Diego Museum of Art Docent Council. \nFeatured: Georgia O’Keeffe\, Ram’s Head\, Blue Morning Glory\, 1938. Oil on canvas. Georgia O’Keeffe Museum. Gift of The Burnett Foundation\, 2007.1.24. © 2022 Georgia O’Keeffe Museum / Artists Rights Society (ARS)\, New York.
URL:https://www.sdmart.org/event/virtual-tour-okeeffe-and-moore-sheltering-inside-and-out/
CATEGORIES:Tours
ATTACH;FMTTYPE=image/jpeg:https://www.sdmart.org/wp-content/uploads/2022/08/OK-Rams-Head-Blue-Morning-GLory-GOKM_resize.jpg
END:VEVENT
END:VCALENDAR