BEGIN:VCALENDAR
VERSION:2.0
PRODID:-//San Diego Museum of Art - ECPv6.7.0//NONSGML v1.0//EN
CALSCALE:GREGORIAN
METHOD:PUBLISH
X-ORIGINAL-URL:https://www.sdmart.org
X-WR-CALDESC:Events for San Diego Museum of Art
REFRESH-INTERVAL;VALUE=DURATION:PT1H
X-Robots-Tag:noindex
X-PUBLISHED-TTL:PT1H
BEGIN:VTIMEZONE
TZID:America/Los_Angeles
BEGIN:DAYLIGHT
TZOFFSETFROM:-0800
TZOFFSETTO:-0700
TZNAME:PDT
DTSTART:20240310T100000
END:DAYLIGHT
BEGIN:STANDARD
TZOFFSETFROM:-0700
TZOFFSETTO:-0800
TZNAME:PST
DTSTART:20241103T090000
END:STANDARD
END:VTIMEZONE
BEGIN:VEVENT
DTSTART;TZID=America/Los_Angeles:20240721T090000
DTEND;TZID=America/Los_Angeles:20240721T113000
DTSTAMP:20260423T035126
CREATED:20240627T192053Z
LAST-MODIFIED:20241218T170711Z
UID:39255-1721552400-1721561400@www.sdmart.org
SUMMARY:Wellness and Art Appreciation Workshop: Breathwork and Movement (SOLD OUT)
DESCRIPTION:Sunday\, July 21\n9:00–11:30 a.m. PT\nMuseum Rotunda \n\nSOLD OUT\nGuided breathing\, meditation\, movement\, and art appreciation in the Museum galleries.\nExplore the relationship between breath\, body\, mind\, elements\, and colors through guided breathwork and movement. Experience the beauty of the Museum’s architecture and selected works of art in a new and immersive way. \nClass includes breathwork and movement guidance by a trained professional\, journaling and conversation with Museum docents\, and a guided slow-looking art appreciation session. \n  \nPhysical Disclaimer: \nThe yoga session will include both chair and mat movements to accommodate participants with various health and mobility conditions. Limited long-hold gentle poses. All levels welcome. \nParticipants should bring: \n\nYoga mat\nSmall towel\n\n  \n  \n$20 members | $30 nonmembers \nTicket includes access to the Museum during session and guided mindfulness tour led by a Museum docent. Post-workshop Museum admission not included. \n  \nEnjoy a Summer of Wellness\nEmbark on a journey of self-discovery this summer through two interconnected yet standalone workshops held in The San Diego Museum of Art on Sunday\, July 21 and Sunday\, August 18. Each session offers a unique opportunity for inner exploration and a deeper understanding of the connection between body\, mind\, and the works of art in the Museum collection. \nAttend both workshop sessions for optimal wellness and art appreciation benefits. Use code 2024Wellness for two-workshop discounted price. \n  \n$32 members | $50 nonmembers
URL:https://www.sdmart.org/event/wellness-and-art-appreciation-workshop-breathwork-and-movement/
LOCATION:The San Diego Museum of Art\, 1450 El Prado\, San Diego\, CA\, 92102\, United States
CATEGORIES:Workshop
ATTACH;FMTTYPE=image/jpeg:https://www.sdmart.org/wp-content/uploads/2024/06/Wellness-Workshop_DSC_3149-edit_web-resize.jpg
GEO:32.732119;-117.1504179
X-APPLE-STRUCTURED-LOCATION;VALUE=URI;X-ADDRESS=The San Diego Museum of Art 1450 El Prado San Diego CA 92102 United States;X-APPLE-RADIUS=500;X-TITLE=1450 El Prado:geo:-117.1504179,32.732119
END:VEVENT
END:VCALENDAR