BEGIN:VCALENDAR
VERSION:2.0
PRODID:-//San Diego Museum of Art - ECPv6.7.0//NONSGML v1.0//EN
CALSCALE:GREGORIAN
METHOD:PUBLISH
X-WR-CALNAME:San Diego Museum of Art
X-ORIGINAL-URL:https://www.sdmart.org
X-WR-CALDESC:Events for San Diego Museum of Art
REFRESH-INTERVAL;VALUE=DURATION:PT1H
X-Robots-Tag:noindex
X-PUBLISHED-TTL:PT1H
BEGIN:VTIMEZONE
TZID:America/Los_Angeles
BEGIN:DAYLIGHT
TZOFFSETFROM:-0800
TZOFFSETTO:-0700
TZNAME:PDT
DTSTART:20250309T100000
END:DAYLIGHT
BEGIN:STANDARD
TZOFFSETFROM:-0700
TZOFFSETTO:-0800
TZNAME:PST
DTSTART:20251102T090000
END:STANDARD
END:VTIMEZONE
BEGIN:VEVENT
DTSTART;VALUE=DATE:20250424
DTEND;VALUE=DATE:20250425
DTSTAMP:20260421T193454
CREATED:20250403T190115Z
LAST-MODIFIED:20250403T190310Z
UID:123188-1745452800-1745539199@www.sdmart.org
SUMMARY:The Museum Is Closed
DESCRIPTION:The Museum is closed on Thursday\, April 24 for Art Alive installation. \n  \nLearn more about Art Alive and get tickets now.
URL:https://www.sdmart.org/event/the-museum-is-closed-aa25install/
ATTACH;FMTTYPE=image/jpeg:https://www.sdmart.org/wp-content/uploads/2019/12/04261892b00025_1000px.jpg
END:VEVENT
BEGIN:VEVENT
DTSTART;TZID=America/Los_Angeles:20250424T130000
DTEND;TZID=America/Los_Angeles:20250424T150000
DTSTAMP:20260421T193454
CREATED:20250409T171346Z
LAST-MODIFIED:20250409T171346Z
UID:124347-1745499600-1745506800@www.sdmart.org
SUMMARY:Encountering Iban Textiles
DESCRIPTION:Thursday\, April 24\n1:00–3:00 p.m. PT\nSpeaker: Thomas Murray\, HALI magazine Contributing Editor and Kristal Hale\, Conservator of Textiles at the Conservation Center of Los Angeles County Museum of Art (LACMA)\nVirtual Event \n  \nTextiles produced by the Iban people from the island of Borneo are known to convey messages across time and space by means of an archetypal iconography that includes human figures\, trees\, reptiles\, birds\, and geometric patterns. These encoded images follow ancestral traditions and customary laws known as adat; cloth becomes sacred through a combination of fine spinning\, dyeing\, and weaving that creates a sense of aesthetic wonder. \nThe famed anthropologist Alfred Gell referred to this state of mind as the “technology of enchantment”: the better the weaver’s technique\, the greater the cloth’s aesthetic beauty\, the more “agency” of spiritual power within an indigenous cultural context. \n  \nThomas Murray will offer insights into the ritual cloths of the Iban Dayak of Borneo\, share their cultural context within the longhouse way of life\, and present the two theoretical perspectives debated in academia using classical examples from his collection to illustrate his points. \nKristal Hale will bring the conversation into the present\, discussing her experience participating in the Iban Dayak ngar (mordant) ceremony at Rumah Garie Longhouse far upriver on a tributary of the Batang Baleh\, Sarawak\, Malaysian Borneo. The mordanting ceremony chemically and spiritually prepares white\, undyed cotton to bind with the natural plant dyes used in ikat. It is the ikat that gives the famous pua kumbu weavings their ritual power and cultural significance\, but it is only through the use of mordants that the highly valued deep red color from morinda citrifolia can be achieved. \n  \nSpeaker Bios: \nThomas Murray is an independent researcher\, collector\, lecturer\, and private dealer of Asian and tribal art with an emphasis on Indonesian sculpture and textiles\, as well as animistic art from other varied cultures. He also features Indian Trade Cloths from the 14th–18th centuries. \nA HALI Magazine Contributing Editor for the last 30 years\, he serves as their “in-house” expert on all tribal sculpture and textiles\, with over 50 publications. His most recent books\, Textiles of Japan\, Rarities From the Himalayas to Hawaii\, and Textiles of Indonesia\, were met with critical acclaim. Thomas Murray is past president of ATADA\, The Antique Tribal Art Dealers Association\, and served a three-year term as a member of President Obama’s Cultural Property Advisory Committee at the State Department. In a letter from a White House\, President Obama said\, “This dedicated individual brings a wealth of experience and talent to his new role and I am proud to have him serve in the months and years to come.” Thomas Murray continues to consult with museums and private clients all over the world. \nKristal Hale is Conservator of Textiles at the Conservation Center of Los Angeles County Museum of Art (LACMA). She holds an MA in art conservation with a textile specialization from the Bern University of Applied Sciences in collaboration with the Abegg-Stiftung\, Switzerland. Kristal was an Andrew W. Mellon Conservation Fellow at The Michael C. Rockefeller Wing of The Metropolitan Museum of Art\, New York. As someone who is engaged in the intersection of heritage preservation and contemporary museum practices\, Kristal participates in Museums of the 21st Century program with Tracing Patterns Foundation to support conservation education in Indonesia and greater Southeast Asia. \n  \nPlease note\, this session will be conducted virtually via Zoom. \nSave your spot by clicking on this link. All participants will be sent the Zoom link via confirmation email with instructions once you secure your place.\n \nSave my spot!\n  \nSponsored by the Asian Arts Council. \n  \nFeatured at top right: Detail of a ceremonial cloth\, pua’ kumbu’\, patterned with anthropomorphic figures\, Iban people\, Borneo.
URL:https://www.sdmart.org/event/encountering-iban-textiles/
CATEGORIES:Lecture,Support Council
ATTACH;FMTTYPE=image/jpeg:https://www.sdmart.org/wp-content/uploads/2025/04/AAC-April_Detail-of-a-ceremonial-cloth-pua-kumbu-patterned-with-anthropomorphic-figures-Iban-people-Borneo.jpg
END:VEVENT
END:VCALENDAR