BEGIN:VCALENDAR
VERSION:2.0
PRODID:-//San Diego Museum of Art - ECPv6.7.0//NONSGML v1.0//EN
CALSCALE:GREGORIAN
METHOD:PUBLISH
X-WR-CALNAME:San Diego Museum of Art
X-ORIGINAL-URL:https://www.sdmart.org
X-WR-CALDESC:Events for San Diego Museum of Art
REFRESH-INTERVAL;VALUE=DURATION:PT1H
X-Robots-Tag:noindex
X-PUBLISHED-TTL:PT1H
BEGIN:VTIMEZONE
TZID:America/Los_Angeles
BEGIN:DAYLIGHT
TZOFFSETFROM:-0800
TZOFFSETTO:-0700
TZNAME:PDT
DTSTART:20260308T100000
END:DAYLIGHT
BEGIN:STANDARD
TZOFFSETFROM:-0700
TZOFFSETTO:-0800
TZNAME:PST
DTSTART:20261101T090000
END:STANDARD
END:VTIMEZONE
BEGIN:VEVENT
DTSTART;TZID=America/Los_Angeles:20260616T100000
DTEND;TZID=America/Los_Angeles:20260616T120000
DTSTAMP:20260425T170102
CREATED:20260128T181252Z
LAST-MODIFIED:20260128T181252Z
UID:709964-1781604000-1781611200@www.sdmart.org
SUMMARY:Community Open Studio
DESCRIPTION:Monthly\, Third Tuesdays\n10:00 a.m.–noon\nMuseum Art Studio \n  \nJoin us for an in-studio art making experience.\nCome explore art making in the SDMA Museum Art Studio! Join us and create work using mediums such as drawing\, painting\, and mixed media and explore your creativity. Materials will be provided\, or you can bring your own. No oil paints or solvents please! \nThis is a pay-what-you-wish event. Please RSVP here to save your spot. Registration is limited to 20 people per session. Meet at the House of Hospitality\, near the Prado restaurant entrance\, at 9:50 a.m. and look for the OPEN STUDIO sign. \n  \nArtists under the age of 18 must be accompanied by an adult for the duration of the Community Open Studio. Museum admission not included.
URL:https://www.sdmart.org/event/community-open-studio-26/2026-06-16/
LOCATION:The San Diego Museum of Art\, 1450 El Prado\, San Diego\, CA\, 92102\, United States
CATEGORIES:Workshop
ATTACH;FMTTYPE=image/jpeg:https://www.sdmart.org/wp-content/uploads/2025/12/Community_Open_Studio.jpeg
GEO:32.732119;-117.1504179
X-APPLE-STRUCTURED-LOCATION;VALUE=URI;X-ADDRESS=The San Diego Museum of Art 1450 El Prado San Diego CA 92102 United States;X-APPLE-RADIUS=500;X-TITLE=1450 El Prado:geo:-117.1504179,32.732119
END:VEVENT
BEGIN:VEVENT
DTSTART;TZID=America/Los_Angeles:20260616T100000
DTEND;TZID=America/Los_Angeles:20260616T170000
DTSTAMP:20260425T170102
CREATED:20251216T195239Z
LAST-MODIFIED:20251216T195239Z
UID:559758-1781604000-1781629200@www.sdmart.org
SUMMARY:Resident Free Tuesday
DESCRIPTION:Tuesday\n10:00 a.m.–5:00 p.m. \n  \nThe San Diego Museum of Art offers free admission to San Diego County residents (with ID) on the third Tuesday of every month. \nA valid ID is required for admission and certain restrictions apply as Resident Free Tuesdays tend to be busy. We ask that you not bring food\, beverages\, backpacks\, or other oversized items. \n  \nPlan for your visit and see our top tips for visiting the Museum.
URL:https://www.sdmart.org/event/resident-free-tuesday-2026/2026-06-16/
LOCATION:The San Diego Museum of Art\, 1450 El Prado\, San Diego\, CA\, 92102\, United States
ATTACH;FMTTYPE=image/jpeg:https://www.sdmart.org/wp-content/uploads/2017/05/VisitorswithDisabilities.H1.jpg
GEO:32.732119;-117.1504179
X-APPLE-STRUCTURED-LOCATION;VALUE=URI;X-ADDRESS=The San Diego Museum of Art 1450 El Prado San Diego CA 92102 United States;X-APPLE-RADIUS=500;X-TITLE=1450 El Prado:geo:-117.1504179,32.732119
END:VEVENT
BEGIN:VEVENT
DTSTART;TZID=America/Los_Angeles:20260616T130000
DTEND;TZID=America/Los_Angeles:20260616T150000
DTSTAMP:20260425T170102
CREATED:20251218T200003Z
LAST-MODIFIED:20251218T200003Z
UID:709947-1781614800-1781622000@www.sdmart.org
SUMMARY:Live Model Drawing
DESCRIPTION:Monthly\, Third Tuesdays\n1:00–3:00 p.m.\nMuseum Art Studio \n  \nJoin us for a live model drawing session.\nCome engage in figure drawing in the SDMA Museum Art Studio! Exercise and develop your drawing skills through observation of a live\, clothed model while exploring your creativity. Drawing materials will be provided or you can bring your own. No oil paints or solvents please! \nThis is a pay-what-you-wish event. Please RSVP here to save your spot. Registration is limited to 20 people per session. Registration is limited to 20 people per session. Meet at the House of Hospitality\, near the Prado restaurant entrance at 12:50 p.m. and look for the OPEN STUDIO sign. \n  \nArtists under the age of 18 must be accompanied by an adult for the duration of the Live Model Drawing Session. Museum admission not included.
URL:https://www.sdmart.org/event/live-model-drawing-3/2026-06-16/
LOCATION:The San Diego Museum of Art\, 1450 El Prado\, San Diego\, CA\, 92102\, United States
CATEGORIES:Workshop
ATTACH;FMTTYPE=image/jpeg:https://www.sdmart.org/wp-content/uploads/2025/06/live-model.jpg
GEO:32.732119;-117.1504179
X-APPLE-STRUCTURED-LOCATION;VALUE=URI;X-ADDRESS=The San Diego Museum of Art 1450 El Prado San Diego CA 92102 United States;X-APPLE-RADIUS=500;X-TITLE=1450 El Prado:geo:-117.1504179,32.732119
END:VEVENT
END:VCALENDAR