BEGIN:VCALENDAR
VERSION:2.0
PRODID:-//San Diego Museum of Art - ECPv6.7.0//NONSGML v1.0//EN
CALSCALE:GREGORIAN
METHOD:PUBLISH
X-WR-CALNAME:San Diego Museum of Art
X-ORIGINAL-URL:https://www.sdmart.org
X-WR-CALDESC:Events for San Diego Museum of Art
REFRESH-INTERVAL;VALUE=DURATION:PT1H
X-Robots-Tag:noindex
X-PUBLISHED-TTL:PT1H
BEGIN:VTIMEZONE
TZID:America/Los_Angeles
BEGIN:DAYLIGHT
TZOFFSETFROM:-0800
TZOFFSETTO:-0700
TZNAME:PDT
DTSTART:20260308T100000
END:DAYLIGHT
BEGIN:STANDARD
TZOFFSETFROM:-0700
TZOFFSETTO:-0800
TZNAME:PST
DTSTART:20261101T090000
END:STANDARD
END:VTIMEZONE
BEGIN:VEVENT
DTSTART;TZID=America/Los_Angeles:20260709T110000
DTEND;TZID=America/Los_Angeles:20260709T130000
DTSTAMP:20260425T183824
CREATED:20260411T001342Z
LAST-MODIFIED:20260411T001342Z
UID:709969-1783594800-1783602000@www.sdmart.org
SUMMARY:Community Art Workshop
DESCRIPTION:Monthly\, Second Thursdays\n11:00 a.m.–1:00 p.m.\nMay S. Marcy Sculpture Garden \n  \nGreat for artists of all ages. Community Art Workshops invite artists to enjoy hands-on art making experiences inspired by the thinking and creating processes of artists on view at the Museum. Artists under the age of 18 must be accompanied by an adult for the duration of the workshop. \n  \nPlease join us! No reservation is required. All materials are provided. Free with Museum admission. \nGreat for artists of all ages. Community Art Workshops invite artists to enjoy hands-on art making experiences inspired by the thinking and creating processes of artists on view at the Museum. Artists under the age of 18 must be accompanied by an adult for the duration of the workshop. Museum admission not included
URL:https://www.sdmart.org/event/community-art-workshop-thurs26/2026-07-09/
LOCATION:The San Diego Museum of Art\, 1450 El Prado\, San Diego\, CA\, 92102\, United States
CATEGORIES:Access for All,Families,Workshop
ATTACH;FMTTYPE=image/jpeg:https://www.sdmart.org/wp-content/uploads/2025/04/Pantea-Karimi-Community-Art-Workshop_baumanphotographers_010_web-resize.jpg
GEO:32.732119;-117.1504179
X-APPLE-STRUCTURED-LOCATION;VALUE=URI;X-ADDRESS=The San Diego Museum of Art 1450 El Prado San Diego CA 92102 United States;X-APPLE-RADIUS=500;X-TITLE=1450 El Prado:geo:-117.1504179,32.732119
END:VEVENT
END:VCALENDAR