BEGIN:VCALENDAR
VERSION:2.0
PRODID:-//San Diego Museum of Art - ECPv6.7.0//NONSGML v1.0//EN
CALSCALE:GREGORIAN
METHOD:PUBLISH
X-ORIGINAL-URL:https://www.sdmart.org
X-WR-CALDESC:Events for San Diego Museum of Art
REFRESH-INTERVAL;VALUE=DURATION:PT1H
X-Robots-Tag:noindex
X-PUBLISHED-TTL:PT1H
BEGIN:VTIMEZONE
TZID:America/Los_Angeles
BEGIN:DAYLIGHT
TZOFFSETFROM:-0800
TZOFFSETTO:-0700
TZNAME:PDT
DTSTART:20260308T100000
END:DAYLIGHT
BEGIN:STANDARD
TZOFFSETFROM:-0700
TZOFFSETTO:-0800
TZNAME:PST
DTSTART:20261101T090000
END:STANDARD
END:VTIMEZONE
BEGIN:VEVENT
DTSTART;TZID=America/Los_Angeles:20260312T103000
DTEND;TZID=America/Los_Angeles:20260312T113000
DTSTAMP:20260424T025826
CREATED:20250909T202422Z
LAST-MODIFIED:20250909T202422Z
UID:672003-1773311400-1773315000@www.sdmart.org
SUMMARY:Books & Art: Storytime in the Library
DESCRIPTION:Second Thursdays\, monthly\n10:30 and 11:00 a.m.\nThe San Diego Museum of Art Library \n  \nGather to listen to exciting storytelling in The San Diego Museum of Art Library.\nFamilies are invited to come and enjoy lively storytelling\, songs\, and readings of some of our favorite art-inspired children’s books. Readings are at 10:30 a.m. and 11:00 a.m. inside The San Diego Museum of Art Library with entry near the Panama 66 restaurant.
URL:https://www.sdmart.org/event/books-art-storytime-library-2026/2026-03-12/
LOCATION:The San Diego Museum of Art\, 1450 El Prado\, San Diego\, CA\, 92102\, United States
CATEGORIES:Access for All,Families
ATTACH;FMTTYPE=image/jpeg:https://www.sdmart.org/wp-content/uploads/2025/05/Storytime-in-the-Library-2025_IMG_4695-square-crop.jpg
GEO:32.732119;-117.1504179
X-APPLE-STRUCTURED-LOCATION;VALUE=URI;X-ADDRESS=The San Diego Museum of Art 1450 El Prado San Diego CA 92102 United States;X-APPLE-RADIUS=500;X-TITLE=1450 El Prado:geo:-117.1504179,32.732119
END:VEVENT
END:VCALENDAR