BEGIN:VCALENDAR
VERSION:2.0
PRODID:-//San Diego Museum of Art - ECPv6.7.0//NONSGML v1.0//EN
CALSCALE:GREGORIAN
METHOD:PUBLISH
X-ORIGINAL-URL:https://www.sdmart.org
X-WR-CALDESC:Events for San Diego Museum of Art
REFRESH-INTERVAL;VALUE=DURATION:PT1H
X-Robots-Tag:noindex
X-PUBLISHED-TTL:PT1H
BEGIN:VTIMEZONE
TZID:America/Los_Angeles
BEGIN:DAYLIGHT
TZOFFSETFROM:-0800
TZOFFSETTO:-0700
TZNAME:PDT
DTSTART:20250309T100000
END:DAYLIGHT
BEGIN:STANDARD
TZOFFSETFROM:-0700
TZOFFSETTO:-0800
TZNAME:PST
DTSTART:20251102T090000
END:STANDARD
END:VTIMEZONE
BEGIN:VEVENT
DTSTART;TZID=America/Los_Angeles:20250213T100000
DTEND;TZID=America/Los_Angeles:20250213T170000
DTSTAMP:20260424T061835
CREATED:20240104T173103Z
LAST-MODIFIED:20240104T173103Z
UID:60241-1739440800-1739466000@www.sdmart.org
SUMMARY:Access for All Day
DESCRIPTION:Thursday\n10:00 a.m.–5:00 p.m. \n  \nThe San Diego Museum of Art is now offering free general admission and arts programming to all visitors on the second Thursday of every month. Check the Museum event calendar for Access for All programming details. \nCertain restrictions apply as Access for All Days are busy. We ask that you not bring food\, beverages\, backpacks\, or other oversized items. \nSee our top tips for visiting the Museum. \n  \nGenerous support provided by Art Bridges Foundation’s Access for All program.
URL:https://www.sdmart.org/event/access-for-all-day/2025-02-13/
LOCATION:The San Diego Museum of Art\, 1450 El Prado\, San Diego\, CA\, 92102\, United States
CATEGORIES:Access for All
ATTACH;FMTTYPE=image/jpeg:https://www.sdmart.org/wp-content/uploads/2024/01/People-in-Galleries_Visible-Vaults_0128239000300_resize.jpg
GEO:32.732119;-117.1504179
X-APPLE-STRUCTURED-LOCATION;VALUE=URI;X-ADDRESS=The San Diego Museum of Art 1450 El Prado San Diego CA 92102 United States;X-APPLE-RADIUS=500;X-TITLE=1450 El Prado:geo:-117.1504179,32.732119
END:VEVENT
BEGIN:VEVENT
DTSTART;TZID=America/Los_Angeles:20250213T103000
DTEND;TZID=America/Los_Angeles:20250213T113000
DTSTAMP:20260424T061835
CREATED:20250115T210344Z
LAST-MODIFIED:20250201T003928Z
UID:64664-1739442600-1739446200@www.sdmart.org
SUMMARY:Books & Art: Storytime in the Library
DESCRIPTION:Thursdays\, February 13\, March 13\, April 10\, May 8\, and June 12\n10:30 and 11:00 a.m.\nThe San Diego Museum of Art Library \n  \nGather to listen to exciting storytelling in The San Diego Museum of Art Library.\nFamilies are invited to come and enjoy lively storytelling and readings of some of our favorite art-inspired children’s books. Readings are at 10:30 a.m. and 11:00 a.m. inside The San Diego Museum of Art Library with entry near the Panama 66 restaurant. Museum admission not included. \n 
URL:https://www.sdmart.org/event/books-art-storytime-in-the-library-2025/2025-02-13/
LOCATION:CA
CATEGORIES:Access for All,Families
ATTACH;FMTTYPE=image/jpeg:https://www.sdmart.org/wp-content/uploads/2024/06/Books-and-Art_Dad-and-son-reading-inside-gallery-edu-space_IMG_7259-edit-web-resize.jpg
END:VEVENT
BEGIN:VEVENT
DTSTART;TZID=America/Los_Angeles:20250213T110000
DTEND;TZID=America/Los_Angeles:20250213T130000
DTSTAMP:20260424T061835
CREATED:20250201T003747Z
LAST-MODIFIED:20250201T003748Z
UID:76059-1739444400-1739451600@www.sdmart.org
SUMMARY:Community Art Workshop: Impressionism
DESCRIPTION:Thursday\, February 13\n11:00 a.m.–1:00 p.m.\nThe San Diego Museum of Art\nMay S Marcy Sculpture Garden\n \n  \nCome join us for artmaking in the garden by engaging in plein air Impressionism.\nGuided by Museum educators\, gather inspiration from nature and observe the natural light on plants while working on small canvases with acrylic paint pens. This event is free to the community. Please join us! \nDrop-in session\, no reservation required. All materials will be provided. \n  \nGreat for artists of all ages\, Community Art Workshops invite artists to enjoy hands-on art making experiences inspired by the thinking and creating processes of artists on view at the Museum.
URL:https://www.sdmart.org/event/community-art-workshop-impressionism/
LOCATION:May S. Marcy Sculpture Garden\, 1450 El Prado\, San Diego\, 92101\, United States
CATEGORIES:Access for All,Families,Workshop
ATTACH;FMTTYPE=image/jpeg:https://www.sdmart.org/wp-content/uploads/2024/02/Comm-Wkshp-Plein-Air-Impressionism.jpg
GEO:32.732119;-117.1504179
X-APPLE-STRUCTURED-LOCATION;VALUE=URI;X-ADDRESS=May S. Marcy Sculpture Garden 1450 El Prado San Diego 92101 United States;X-APPLE-RADIUS=500;X-TITLE=1450 El Prado:geo:-117.1504179,32.732119
END:VEVENT
END:VCALENDAR