BEGIN:VCALENDAR
VERSION:2.0
PRODID:-//San Diego Museum of Art - ECPv6.7.0//NONSGML v1.0//EN
CALSCALE:GREGORIAN
METHOD:PUBLISH
X-ORIGINAL-URL:https://www.sdmart.org
X-WR-CALDESC:Events for San Diego Museum of Art
REFRESH-INTERVAL;VALUE=DURATION:PT1H
X-Robots-Tag:noindex
X-PUBLISHED-TTL:PT1H
BEGIN:VTIMEZONE
TZID:America/Los_Angeles
BEGIN:DAYLIGHT
TZOFFSETFROM:-0800
TZOFFSETTO:-0700
TZNAME:PDT
DTSTART:20250309T100000
END:DAYLIGHT
BEGIN:STANDARD
TZOFFSETFROM:-0700
TZOFFSETTO:-0800
TZNAME:PST
DTSTART:20251102T090000
END:STANDARD
END:VTIMEZONE
BEGIN:VEVENT
DTSTART;TZID=America/Los_Angeles:20251009T100000
DTEND;TZID=America/Los_Angeles:20251009T170000
DTSTAMP:20260420T042552
CREATED:20240104T173103Z
LAST-MODIFIED:20251006T221642Z
UID:60249-1760004000-1760029200@www.sdmart.org
SUMMARY:Access for All Day
DESCRIPTION:Thursday\n10:00 a.m.–5:00 p.m. \n  \nThe San Diego Museum of Art (SDMA) and the Museum of Photographic Arts at The San Diego Museum of Art (MOPA@SDMA) are now offering free general admission and arts programming to all visitors on the second Thursday of every month. Check the Museum event calendar for Access for All programming details. \nCertain restrictions apply as Access for All Days are busy. We ask that you not bring food\, beverages\, backpacks\, or other oversized items. \nSee our top tips for visiting the Museum. \n  \nGenerous support provided by Art Bridges Foundation’s Access for All program.
URL:https://www.sdmart.org/event/access-for-all-day-2025-08-14/2025-10-09/
LOCATION:The San Diego Museum of Art\, 1450 El Prado\, San Diego\, CA\, 92102\, United States
CATEGORIES:Access for All
ATTACH;FMTTYPE=image/jpeg:https://www.sdmart.org/wp-content/uploads/2024/01/People-in-Galleries_Visible-Vaults_0128239000300_resize.jpg
GEO:32.732119;-117.1504179
X-APPLE-STRUCTURED-LOCATION;VALUE=URI;X-ADDRESS=The San Diego Museum of Art 1450 El Prado San Diego CA 92102 United States;X-APPLE-RADIUS=500;X-TITLE=1450 El Prado:geo:-117.1504179,32.732119
END:VEVENT
BEGIN:VEVENT
DTSTART;TZID=America/Los_Angeles:20251009T103000
DTEND;TZID=America/Los_Angeles:20251009T113000
DTSTAMP:20260420T042552
CREATED:20250912T232954Z
LAST-MODIFIED:20250912T232954Z
UID:337227-1760005800-1760009400@www.sdmart.org
SUMMARY:Books & Art: Storytime in the Gallery
DESCRIPTION:Thursdays\, October 9\n10:30 and 11:00 a.m.\nMuseum of Photographic Arts at The San Diego Museum of Art Library (MOPA@SDMA)\nDammeyer Gallery \n  \nGather for a lively storytime in the MOPA@SDMA Dammeyer Gallery\, surrounded by the vibrant artwork of Cat Chiu.  \nFamilies are invited to enjoy engaging storytelling\, songs\, and readings of beloved children’s books in a space where art and literature meet. Listen to stories at 10:30 a.m. and 11:00 a.m. alongside Cat Chiu’s quilt-inspired installations made from children’s book jackets. This imaginative setting celebrates creativity\, memory\, and play. No reservation required.
URL:https://www.sdmart.org/event/books-art-storytime-in-the-gallery/
LOCATION:Museum of Photographic Arts at The San Diego Museum of Art\, 1649 El Prado\, San Diego\, CA\, 92101\, United States
CATEGORIES:Access for All,Families
ATTACH;FMTTYPE=image/jpeg:https://www.sdmart.org/wp-content/uploads/2025/05/Storytime-in-the-Library-2025_IMG_4695-square-crop.jpg
END:VEVENT
BEGIN:VEVENT
DTSTART;TZID=America/Los_Angeles:20251009T110000
DTEND;TZID=America/Los_Angeles:20251009T130000
DTSTAMP:20260420T042552
CREATED:20250923T231327Z
LAST-MODIFIED:20250924T172209Z
UID:342546-1760007600-1760014800@www.sdmart.org
SUMMARY:Community Art Workshop: Book Jacket Fortune Tellers
DESCRIPTION:Thursday\, October 9\n11:00 a.m.–1:00 p.m.\nMOPA@SDMA Atrium \n  \nJoin Museum educators in a paper folding activity using repurposed book jackets. \nUsing folding methods\, create a beautiful paper fortune teller from repurposed children’s book jackets. This workshop is inspired and led by artist Cat Chiu whose artwork Booked\, is featured in the Conversations in Art: Dignity exhibition on view in the Dammeyer Gallery at MOPA@SDMA through January 4\, 2026.  \nNo reservation is required. All materials are provided  \n  \nGreat for artists of all ages. Community Art Workshops invite artists to enjoy hands-on art making experiences inspired by the thinking and creating processes of artists on view at the Museum. Artists under the age of 18 must be accompanied by an adult for the duration of the workshop.
URL:https://www.sdmart.org/event/community-art-workshop-book-jacket-fortune-tellers/
LOCATION:Museum of Photographic Arts at The San Diego Museum of Art\, 1649 El Prado\, San Diego\, CA\, 92101\, United States
CATEGORIES:Access for All,Workshop
ATTACH;FMTTYPE=image/jpeg:https://www.sdmart.org/wp-content/uploads/2025/09/BookJacketFortuneTeller_SampleProject2_web-resize.jpg
END:VEVENT
END:VCALENDAR