BEGIN:VCALENDAR
VERSION:2.0
PRODID:-//San Diego Museum of Art - ECPv6.7.0//NONSGML v1.0//EN
CALSCALE:GREGORIAN
METHOD:PUBLISH
X-ORIGINAL-URL:https://www.sdmart.org
X-WR-CALDESC:Events for San Diego Museum of Art
REFRESH-INTERVAL;VALUE=DURATION:PT1H
X-Robots-Tag:noindex
X-PUBLISHED-TTL:PT1H
BEGIN:VTIMEZONE
TZID:America/Los_Angeles
BEGIN:DAYLIGHT
TZOFFSETFROM:-0800
TZOFFSETTO:-0700
TZNAME:PDT
DTSTART:20200308T100000
END:DAYLIGHT
BEGIN:STANDARD
TZOFFSETFROM:-0700
TZOFFSETTO:-0800
TZNAME:PST
DTSTART:20201101T090000
END:STANDARD
END:VTIMEZONE
BEGIN:VEVENT
DTSTART;TZID=America/Los_Angeles:20200313T170000
DTEND;TZID=America/Los_Angeles:20200313T200000
DTSTAMP:20260425T100544
CREATED:20190903T231028Z
LAST-MODIFIED:20200225T212819Z
UID:15276-1584118800-1584129600@www.sdmart.org
SUMMARY:Art After Hours
DESCRIPTION:For only $5 after 5:00 p.m. on Fridays\, experience exhibitions* and the Museum’s 20 galleries while live music plays at Panama 66 in the May S. Marcy Sculpture Court.  Free admission for members\, youth 17 & under\, and college students with ID. \nTickets available and sold at the door. \n*May not include special temporary exhibitions. Please check individual exhibition web pages for exceptions. \nPlease check the calendar for exceptions.
URL:https://www.sdmart.org/event/no-art-after-hours-3/
CATEGORIES:Art After Hours
END:VEVENT
END:VCALENDAR