BEGIN:VCALENDAR
VERSION:2.0
PRODID:-//San Diego Museum of Art - ECPv6.7.0//NONSGML v1.0//EN
CALSCALE:GREGORIAN
METHOD:PUBLISH
X-WR-CALNAME:San Diego Museum of Art
X-ORIGINAL-URL:https://www.sdmart.org
X-WR-CALDESC:Events for San Diego Museum of Art
REFRESH-INTERVAL;VALUE=DURATION:PT1H
X-Robots-Tag:noindex
X-PUBLISHED-TTL:PT1H
BEGIN:VTIMEZONE
TZID:America/Los_Angeles
BEGIN:DAYLIGHT
TZOFFSETFROM:-0800
TZOFFSETTO:-0700
TZNAME:PDT
DTSTART:20230312T100000
END:DAYLIGHT
BEGIN:STANDARD
TZOFFSETFROM:-0700
TZOFFSETTO:-0800
TZNAME:PST
DTSTART:20231105T090000
END:STANDARD
END:VTIMEZONE
BEGIN:VEVENT
DTSTART;TZID=America/Los_Angeles:20231209T100000
DTEND;TZID=America/Los_Angeles:20231209T120000
DTSTAMP:20260421T100358
CREATED:20231106T204637Z
LAST-MODIFIED:20241218T162237Z
UID:37920-1702116000-1702123200@www.sdmart.org
SUMMARY:When India Met the Eameses
DESCRIPTION:Saturday\, December 9\n10:00 a.m. PT\nSpeaker: Victoria Lautman\, Journalist and Author\nVirtual Event \n  \nCharles and Ray Eames are renowned for their innovative home\, collectible furniture\, and ground-breaking films among many other contributions. But few people are aware of their lengthy\, transformative journey to India in 1958 at the request of Jawaharlal Nehru\, who sought their advice on creating a national institute of design. The Eameses’ initial excursion took them to all corners of the country and resulted in thousands of photographs as they contemplated industries\, crafts\, architecture\, and traditions before hammering out “The India Report\,” which continues to resonate today. \nJoin us and Victoria Lautman\, a cultural journalist-at-large with three decades of experience across all media\, to explore how these iconic American designers’ time in India kick-started the country’s most prestigious design school and left a lasting impact. \n  \nPlease reserve your spot by clicking on this link. All participants will be sent the Zoom link and instructions via email once you secure your place.\n \nSave my spot! \n  \nSponsored by the South Asian Arts Council. \n  \nFeatured at top right: Charles and Ray Eames at their home\, showing the famous Eames chair and ottoman.
URL:https://www.sdmart.org/event/when-india-met-the-eameses/
CATEGORIES:Lecture,Support Council
ATTACH;FMTTYPE=image/png:https://www.sdmart.org/wp-content/uploads/2023/11/SAAC-Eames-Dec-Lecture.png
END:VEVENT
END:VCALENDAR